BEGIN:VCALENDAR
VERSION:2.0
PRODID:-//Mindfulness Hamilton - ECPv6.15.20//NONSGML v1.0//EN
CALSCALE:GREGORIAN
METHOD:PUBLISH
X-ORIGINAL-URL:https://mindfulnesshamilton.ca
X-WR-CALDESC:Events for Mindfulness Hamilton
REFRESH-INTERVAL;VALUE=DURATION:PT1H
X-Robots-Tag:noindex
X-PUBLISHED-TTL:PT1H
BEGIN:VTIMEZONE
TZID:UTC
BEGIN:STANDARD
TZOFFSETFROM:+0000
TZOFFSETTO:+0000
TZNAME:UTC
DTSTART:20150101T000000
END:STANDARD
END:VTIMEZONE
BEGIN:VEVENT
DTSTART;TZID=UTC:20161005T173000
DTEND;TZID=UTC:20161005T203000
DTSTAMP:20260421T045251
CREATED:20160712T034713Z
LAST-MODIFIED:20161104T230051Z
UID:10000073-1475688600-1475699400@mindfulnesshamilton.ca
SUMMARY:Mindful Self Compassion
DESCRIPTION:October 5 to November 23\, 2016 from 5:30-8:30 \nwith a 4 hour retreat November 5th 9:30 -1:30 \n\nMelrose United Church\, \n86 Homewood Ave\nHamilton\, Ontario Canada
URL:https://mindfulnesshamilton.ca/event/mindful-self-compassion-4
LOCATION:Melrose United Church\, 86 Homewood Avenue\, Hamilton\, Ontario\, L8P2M2\, Canada
ORGANIZER;CN="Barbara Smith":MAILTO:info@mindfulselfcompassion.ca
END:VEVENT
END:VCALENDAR