BEGIN:VCALENDAR
VERSION:2.0
PRODID:-//Mindfulness Hamilton - ECPv6.15.20//NONSGML v1.0//EN
CALSCALE:GREGORIAN
METHOD:PUBLISH
X-ORIGINAL-URL:https://mindfulnesshamilton.ca
X-WR-CALDESC:Events for Mindfulness Hamilton
REFRESH-INTERVAL;VALUE=DURATION:PT1H
X-Robots-Tag:noindex
X-PUBLISHED-TTL:PT1H
BEGIN:VTIMEZONE
TZID:America/New_York
BEGIN:DAYLIGHT
TZOFFSETFROM:-0500
TZOFFSETTO:-0400
TZNAME:EDT
DTSTART:20170312T070000
END:DAYLIGHT
BEGIN:STANDARD
TZOFFSETFROM:-0400
TZOFFSETTO:-0500
TZNAME:EST
DTSTART:20171105T060000
END:STANDARD
BEGIN:DAYLIGHT
TZOFFSETFROM:-0500
TZOFFSETTO:-0400
TZNAME:EDT
DTSTART:20180311T070000
END:DAYLIGHT
BEGIN:STANDARD
TZOFFSETFROM:-0400
TZOFFSETTO:-0500
TZNAME:EST
DTSTART:20181104T060000
END:STANDARD
BEGIN:DAYLIGHT
TZOFFSETFROM:-0500
TZOFFSETTO:-0400
TZNAME:EDT
DTSTART:20190310T070000
END:DAYLIGHT
BEGIN:STANDARD
TZOFFSETFROM:-0400
TZOFFSETTO:-0500
TZNAME:EST
DTSTART:20191103T060000
END:STANDARD
END:VTIMEZONE
BEGIN:VEVENT
DTSTART;TZID=America/New_York:20180710T080000
DTEND;TZID=America/New_York:20180715T170000
DTSTAMP:20260421T062006
CREATED:20180516T171359Z
LAST-MODIFIED:20180516T171359Z
UID:10000211-1531209600-1531674000@mindfulnesshamilton.ca
SUMMARY:Teen Mindfulness Summer Retreat July 10th to Sunday July 15
DESCRIPTION:Mindfulness Training for Teens\n6-DAY RESIDENTIAL RETREAT FOR AGES 15-19 JULY 10—15\, 2018 | Lakefield\,Ontario \nThe iBMme Retreat Experience: \nLearn in-depth mindfulness practices from leading teachers through guided meditations\, movement exercises and dynamic workshops \nCultivate enhanced self-awareness\, empathy\, mental focus\, and skill communication \nDevelop mindfulness for creative self-expression and ecological understanding \nDeepen skill of compassion and social justice for our communities and the natural world \nScholarships available: No teen has ever been turned away for lack of funds. \nTo Learn More\, Visit: iBme.info/to18
URL:https://mindfulnesshamilton.ca/event/teen-mindfulness-summer-retreat-july-10th-to-sunday-july-15
LOCATION:Lakefield College
END:VEVENT
END:VCALENDAR