BEGIN:VCALENDAR
VERSION:2.0
PRODID:-//Mindfulness Hamilton - ECPv6.15.20//NONSGML v1.0//EN
CALSCALE:GREGORIAN
METHOD:PUBLISH
X-WR-CALNAME:Mindfulness Hamilton
X-ORIGINAL-URL:https://mindfulnesshamilton.ca
X-WR-CALDESC:Events for Mindfulness Hamilton
REFRESH-INTERVAL;VALUE=DURATION:PT1H
X-Robots-Tag:noindex
X-PUBLISHED-TTL:PT1H
BEGIN:VTIMEZONE
TZID:America/New_York
BEGIN:DAYLIGHT
TZOFFSETFROM:-0500
TZOFFSETTO:-0400
TZNAME:EDT
DTSTART:20240310T070000
END:DAYLIGHT
BEGIN:STANDARD
TZOFFSETFROM:-0400
TZOFFSETTO:-0500
TZNAME:EST
DTSTART:20241103T060000
END:STANDARD
BEGIN:DAYLIGHT
TZOFFSETFROM:-0500
TZOFFSETTO:-0400
TZNAME:EDT
DTSTART:20250309T070000
END:DAYLIGHT
BEGIN:STANDARD
TZOFFSETFROM:-0400
TZOFFSETTO:-0500
TZNAME:EST
DTSTART:20251102T060000
END:STANDARD
BEGIN:DAYLIGHT
TZOFFSETFROM:-0500
TZOFFSETTO:-0400
TZNAME:EDT
DTSTART:20260308T070000
END:DAYLIGHT
BEGIN:STANDARD
TZOFFSETFROM:-0400
TZOFFSETTO:-0500
TZNAME:EST
DTSTART:20261101T060000
END:STANDARD
END:VTIMEZONE
BEGIN:VEVENT
DTSTART;TZID=America/New_York:20250817T103000
DTEND;TZID=America/New_York:20250817T150000
DTSTAMP:20260421T075734
CREATED:20250728T212040Z
LAST-MODIFIED:20250729T141044Z
UID:10003567-1755426600-1755442800@mindfulnesshamilton.ca
SUMMARY:A Run for Chris - in support of mental health & addictions care
DESCRIPTION:Join Mindfulness Hamilton for “A Run for Chris” – August 17th \nMindfulness Hamilton invites all members of Hamilton’s mindfulness community to join us in supporting mental health and substance use care in our City. We are entering a MH Team to walk or run 5km in the 4th annual “A Run for Chris”. The event is held in honour of Chris Owens who grew up in Waterdown. On August 20\, 2021\, at the age of 26\, Chris lost his battle with mental health and substance use. This year\, to continue the proud tradition of raising funds for programs and services helping those living with mental health and/or substance use concerns\, all funds raised will support St. Joseph’s Healthcare Hamilton’s Youth Wellness Centre (YWC). Last year the event raised over $40\,000 in support of this worthy cause. \nIn addition\, Mindfulness Hamilton will host an information booth onsite to promote mindfulness education in Hamilton. We sincerely hope that you’re able to drop by and say hi. \nYou can find all the info you need and join the MH Team for “A Run for Chris” by using this link \nhttps://raceroster.com/registration/7b7a2a79-2daa-4de9-b1a0-03316c252cc4/entry?team=838878 \nWe look forward to seeing you there!
URL:https://mindfulnesshamilton.ca/event/a-run-for-chris
LOCATION:Joe Sams Leisure Park\, 752 Centre Road\, Hamilton\, ON\, Canada
CATEGORIES:Community Events
ATTACH;FMTTYPE=image/jpeg:https://mindfulnesshamilton.ca/wp-content/uploads/08-18-2024-A-Run-for-Chris-105.jpg
END:VEVENT
END:VCALENDAR