BEGIN:VCALENDAR
VERSION:2.0
PRODID:-//Mindfulness Hamilton - ECPv6.15.20//NONSGML v1.0//EN
CALSCALE:GREGORIAN
METHOD:PUBLISH
X-WR-CALNAME:Mindfulness Hamilton
X-ORIGINAL-URL:https://mindfulnesshamilton.ca
X-WR-CALDESC:Events for Mindfulness Hamilton
REFRESH-INTERVAL;VALUE=DURATION:PT1H
X-Robots-Tag:noindex
X-PUBLISHED-TTL:PT1H
BEGIN:VTIMEZONE
TZID:America/New_York
BEGIN:DAYLIGHT
TZOFFSETFROM:-0500
TZOFFSETTO:-0400
TZNAME:EDT
DTSTART:20230312T070000
END:DAYLIGHT
BEGIN:STANDARD
TZOFFSETFROM:-0400
TZOFFSETTO:-0500
TZNAME:EST
DTSTART:20231105T060000
END:STANDARD
BEGIN:DAYLIGHT
TZOFFSETFROM:-0500
TZOFFSETTO:-0400
TZNAME:EDT
DTSTART:20240310T070000
END:DAYLIGHT
BEGIN:STANDARD
TZOFFSETFROM:-0400
TZOFFSETTO:-0500
TZNAME:EST
DTSTART:20241103T060000
END:STANDARD
BEGIN:DAYLIGHT
TZOFFSETFROM:-0500
TZOFFSETTO:-0400
TZNAME:EDT
DTSTART:20250309T070000
END:DAYLIGHT
BEGIN:STANDARD
TZOFFSETFROM:-0400
TZOFFSETTO:-0500
TZNAME:EST
DTSTART:20251102T060000
END:STANDARD
END:VTIMEZONE
BEGIN:VEVENT
DTSTART;TZID=America/New_York:20240817T093000
DTEND;TZID=America/New_York:20240817T103000
DTSTAMP:20260425T210438
CREATED:20240726T163221Z
LAST-MODIFIED:20240726T163221Z
UID:10001144-1723887000-1723890600@mindfulnesshamilton.ca
SUMMARY:Mindfulness through Photography
DESCRIPTION:Interested in using photography as a way to practice mindfulness?  Join us for an informal walk in nature. \nThe exact location is here \n.Any camera will do including your phone.  Washrooms not available.  Free parking.  Bring water\, sunscreen and bug spray. \n“Take nothing but pictures\, leave nothing but footprints\, kill nothing but time” – Roots & Shoots. \n 
URL:https://mindfulnesshamilton.ca/event/mindfulness-through-photography
LOCATION:Edwards Memorial Park
END:VEVENT
END:VCALENDAR