BEGIN:VCALENDAR
VERSION:2.0
PRODID:-//Mindfulness Hamilton - ECPv6.15.20//NONSGML v1.0//EN
CALSCALE:GREGORIAN
METHOD:PUBLISH
X-WR-CALNAME:Mindfulness Hamilton
X-ORIGINAL-URL:https://mindfulnesshamilton.ca
X-WR-CALDESC:Events for Mindfulness Hamilton
REFRESH-INTERVAL;VALUE=DURATION:PT1H
X-Robots-Tag:noindex
X-PUBLISHED-TTL:PT1H
BEGIN:VTIMEZONE
TZID:America/New_York
BEGIN:DAYLIGHT
TZOFFSETFROM:-0500
TZOFFSETTO:-0400
TZNAME:EDT
DTSTART:20180311T070000
END:DAYLIGHT
BEGIN:STANDARD
TZOFFSETFROM:-0400
TZOFFSETTO:-0500
TZNAME:EST
DTSTART:20181104T060000
END:STANDARD
BEGIN:DAYLIGHT
TZOFFSETFROM:-0500
TZOFFSETTO:-0400
TZNAME:EDT
DTSTART:20190310T070000
END:DAYLIGHT
BEGIN:STANDARD
TZOFFSETFROM:-0400
TZOFFSETTO:-0500
TZNAME:EST
DTSTART:20191103T060000
END:STANDARD
BEGIN:DAYLIGHT
TZOFFSETFROM:-0500
TZOFFSETTO:-0400
TZNAME:EDT
DTSTART:20200308T070000
END:DAYLIGHT
BEGIN:STANDARD
TZOFFSETFROM:-0400
TZOFFSETTO:-0500
TZNAME:EST
DTSTART:20201101T060000
END:STANDARD
END:VTIMEZONE
BEGIN:VEVENT
DTSTART;VALUE=DATE:20190913
DTEND;VALUE=DATE:20190916
DTSTAMP:20260421T105456
CREATED:20190715T201907Z
LAST-MODIFIED:20190715T201907Z
UID:10000221-1568332800-1568591999@mindfulnesshamilton.ca
SUMMARY:Refresh Your Soul
DESCRIPTION:Enjoy two cozy nights in cottage country\, surrounded by forest and steps from the beach. Nourished by seasonal organic whole foods\, immerse yourself in dynamic and healing yoga and meditation practices in dedicated tranquil spaces. Balance your free time with guided activities in support of a full body\, mind and spirit refresh before the busy fall and holiday seasons. You deserve it! \nFind out more and reserve your spot by June 1 for an early bird discount. Visit lillimarkle.com.
URL:https://mindfulnesshamilton.ca/event/refresh-your-soul
LOCATION:Cedar Healing Arts Centre\, Sun Life Centre\, 200 King Street West #1301A\, Gravenhurst\, ON\, Canada
ORGANIZER;CN="Lilli Markle":MAILTO:hello@lillimarkle.com
END:VEVENT
END:VCALENDAR