BEGIN:VCALENDAR
VERSION:2.0
PRODID:-//Mindfulness Hamilton - ECPv6.15.20//NONSGML v1.0//EN
CALSCALE:GREGORIAN
METHOD:PUBLISH
X-WR-CALNAME:Mindfulness Hamilton
X-ORIGINAL-URL:https://mindfulnesshamilton.ca
X-WR-CALDESC:Events for Mindfulness Hamilton
REFRESH-INTERVAL;VALUE=DURATION:PT1H
X-Robots-Tag:noindex
X-PUBLISHED-TTL:PT1H
BEGIN:VTIMEZONE
TZID:America/New_York
BEGIN:DAYLIGHT
TZOFFSETFROM:-0500
TZOFFSETTO:-0400
TZNAME:EDT
DTSTART:20190310T070000
END:DAYLIGHT
BEGIN:STANDARD
TZOFFSETFROM:-0400
TZOFFSETTO:-0500
TZNAME:EST
DTSTART:20191103T060000
END:STANDARD
BEGIN:DAYLIGHT
TZOFFSETFROM:-0500
TZOFFSETTO:-0400
TZNAME:EDT
DTSTART:20200308T070000
END:DAYLIGHT
BEGIN:STANDARD
TZOFFSETFROM:-0400
TZOFFSETTO:-0500
TZNAME:EST
DTSTART:20201101T060000
END:STANDARD
BEGIN:DAYLIGHT
TZOFFSETFROM:-0500
TZOFFSETTO:-0400
TZNAME:EDT
DTSTART:20210314T070000
END:DAYLIGHT
BEGIN:STANDARD
TZOFFSETFROM:-0400
TZOFFSETTO:-0500
TZNAME:EST
DTSTART:20211107T060000
END:STANDARD
END:VTIMEZONE
BEGIN:VEVENT
DTSTART;TZID=America/New_York:20200609T070000
DTEND;TZID=America/New_York:20200609T200000
DTSTAMP:20260420T002000
CREATED:20200605T185519Z
LAST-MODIFIED:20200605T215741Z
UID:10000238-1591686000-1591732800@mindfulnesshamilton.ca
SUMMARY:TED Talk with Daron Larson on Mindfulness and the Covid Pandemic
DESCRIPTION:Long time student and teacher\, Daron Larson is presenting a Ted Talk this next Tuesday\, June 9th evening. It will be live\, free\, and online. It’s the first salon event hosted by the TEDxColumbus organization. They’ve invited Daron and another speaker\, Doris Korda to kick things off. Daron will be talking about how current events help reveal the potential for mindfulness to help people navigate uncertainty and difficult emotions. He plans to emphasize how “the monastery comes to us” — as Shinzen says — and how this can be an opportunity to strengthen our resilience and recognize our shared humanity. When: Tuesday\, June 9 starting at 7 p.m. EST Topic: Growing Minds They will be hosting two past TEDxColumbus speakers\, Doris Korda and Daron Larson. They will discuss their previous talks and how the ideas they shared then relate to our changing world. Check out their talks! Doris Korda – How to do school better Daron Larson – Don’t try to be mindful  To Register: https://us02web.zoom.us/webinar/register/WN_yZt_8LcnTLm3IkfaMOoHIw     Read more HERE \n\n 
URL:https://mindfulnesshamilton.ca/event/ted-talk-with-daron-larson-on-mindfulness-and-the-covid-pandemic
LOCATION:ON LINE
END:VEVENT
END:VCALENDAR