BEGIN:VCALENDAR
VERSION:2.0
PRODID:-//Mindfulness Hamilton - ECPv6.15.20//NONSGML v1.0//EN
CALSCALE:GREGORIAN
METHOD:PUBLISH
X-ORIGINAL-URL:https://mindfulnesshamilton.ca
X-WR-CALDESC:Events for Mindfulness Hamilton
REFRESH-INTERVAL;VALUE=DURATION:PT1H
X-Robots-Tag:noindex
X-PUBLISHED-TTL:PT1H
BEGIN:VTIMEZONE
TZID:UTC
BEGIN:STANDARD
TZOFFSETFROM:+0000
TZOFFSETTO:+0000
TZNAME:UTC
DTSTART:20150101T000000
END:STANDARD
END:VTIMEZONE
BEGIN:VTIMEZONE
TZID:America/New_York
BEGIN:DAYLIGHT
TZOFFSETFROM:-0500
TZOFFSETTO:-0400
TZNAME:EDT
DTSTART:20140309T070000
END:DAYLIGHT
BEGIN:STANDARD
TZOFFSETFROM:-0400
TZOFFSETTO:-0500
TZNAME:EST
DTSTART:20141102T060000
END:STANDARD
BEGIN:DAYLIGHT
TZOFFSETFROM:-0500
TZOFFSETTO:-0400
TZNAME:EDT
DTSTART:20150308T070000
END:DAYLIGHT
BEGIN:STANDARD
TZOFFSETFROM:-0400
TZOFFSETTO:-0500
TZNAME:EST
DTSTART:20151101T060000
END:STANDARD
BEGIN:DAYLIGHT
TZOFFSETFROM:-0500
TZOFFSETTO:-0400
TZNAME:EDT
DTSTART:20160313T070000
END:DAYLIGHT
BEGIN:STANDARD
TZOFFSETFROM:-0400
TZOFFSETTO:-0500
TZNAME:EST
DTSTART:20161106T060000
END:STANDARD
END:VTIMEZONE
BEGIN:VEVENT
DTSTART;TZID=UTC:20160331T163000
DTEND;TZID=UTC:20160526T190000
DTSTAMP:20260421T110904
CREATED:20160307T015820Z
LAST-MODIFIED:20160307T015846Z
UID:10000072-1459441800-1464289200@mindfulnesshamilton.ca
SUMMARY:MBSR Program March 31 - May 29
DESCRIPTION:A new MBSR program will begin on Wednesday MARCH 30th\, 2016. This group will run every week for 8 weeks ending on Wednesday MAY 29th\, 2016. The retreat day will be scheduled for either WEDNESDAY MAY 4th or SATURDAY MAY 7th\, 2016 (group consensus). This course will help you by: · Introducing the theory and practice of mindfulness meditation which is based upon the mindfulness approach developed by Jon Kabat-Zinn . · Learning how to develop your own daily mindfulness meditation practice . · Learning how to enhance moment-to-moment awareness\, decrease emotional and physical symptoms\, and respond to stressors in more rewarding ways. “By living mindfully\, we can overcome stubborn mental patterns and live more joyfully.” Location – 326 Locke Street South  Time –     From 4:30 to 7:00 pm What to Bring  – nothing – there will be cushions/mats and a variety of different meditation devises for people to try out. If you are already a practitioner of meditation\, then feel free to bring your own. Dress in comfortable clothing and layers is best. We will be sitting on a carpeted floor – there are chairs for people that may have difficulty with the floor. The MBSR program cost is $300 for 8 weeks including the retreat day. Payments can be made by either Visa or Master Card and leave the details – name of cardholder\, V/MC # and expiry date on my answering machine 905 528-0257 which is private and confidential or email at suzmcbr@gmail.com I am look forward to getting this new program of Mindfullness Based Stress Reduction going. Please email if you have any questions and/or concerns prior to the start date and I will get back to you as soon as possible. Namaste\,   Susan Jung – Consciousness: Until you make the unconscious conscious\, it will direct your life and you will call it fate. May the Long Time Sun Shine Upon You\, All Love Surround You\,  And the Pure Light Within You\, Guide Your Way On Susan McBride suzmcbr@gmail.com www.susanmcbride.ca
URL:https://mindfulnesshamilton.ca/event/mbsr-program-march-31-may-29
LOCATION:Location\, 326 Locke Street South\, Hamilton\, Canada
END:VEVENT
BEGIN:VEVENT
DTSTART;TZID=America/New_York:20151015T163000
DTEND;TZID=America/New_York:20151209T190000
DTSTAMP:20260421T110904
CREATED:20150913T005636Z
LAST-MODIFIED:20150913T005636Z
UID:10000004-1444926600-1449687600@mindfulnesshamilton.ca
SUMMARY:Mindfulness Based Stress Reduction Oct 14 - Dec 9
DESCRIPTION:A new MBSR program will begin on Wednesday OCTOBER 14th\, 2015. This group will run every week for 8 weeks ending on Wednesday DECEMBER 9th. The retreat day will be scheduled by the group participants at the first session – possible dates will be Saturday November 14th or Wednesday November 18th. This course will help you by: · Introducing the theory and practice of mindfulness meditation which is based upon the mindfulness approach developed by Jon Kabat-Zinn . · Learning how to develop your own daily mindfulness meditation practice . · Learning how to enhance moment-to-moment awareness\, decrease emotional and physical symptoms\, and respond to stressors in more rewarding ways. “By living mindfully\, we can overcome stubborn mental patterns and live more joyfully.” \nLocation – 326 Locke Street South  Time –     From 4:30 to 7:00 pm What to Bring  – nothing – there will be cushions/mats and a variety of different meditation devises for people to try out. If you are already a practitioner of meditation\, then feel free to bring your own. Dress in comfortable clothing and layers is best. We will be sitting on a carpeted floor – there are chairs for people that may have difficulty with the floor. The \nMBSR program cost is $300 for 8 weeks including the retreat day. Payments can be made by either Visa or Master Card and leave the details – name of cardholder\, V/MC # and expiry date on my answering machine 905 528-0257 which is private and confidential or email at suzmcbr@gmail.com  Please email if you have any questions and/or concerns prior to the start date and I will get back to you as soon as possible. Namaste\,  Susan \n“Your task is not to seek for love\, but merely to seek and find all the barriers within yourself that you have built against it.”  Rumi \nJung – Consciousness:  Until you make the unconscious conscious\, it will direct your life and you will call it fate. “I need you in order to be me and you need me in order to be you.” Desmond Tutu.
URL:https://mindfulnesshamilton.ca/event/mindfulness-based-stress-reduction-oct-14-dec-9
END:VEVENT
END:VCALENDAR