BEGIN:VCALENDAR
VERSION:2.0
PRODID:-//Mindfulness Hamilton - ECPv6.15.20//NONSGML v1.0//EN
CALSCALE:GREGORIAN
METHOD:PUBLISH
X-ORIGINAL-URL:https://mindfulnesshamilton.ca
X-WR-CALDESC:Events for Mindfulness Hamilton
REFRESH-INTERVAL;VALUE=DURATION:PT1H
X-Robots-Tag:noindex
X-PUBLISHED-TTL:PT1H
BEGIN:VTIMEZONE
TZID:America/New_York
BEGIN:DAYLIGHT
TZOFFSETFROM:-0500
TZOFFSETTO:-0400
TZNAME:EDT
DTSTART:20210314T070000
END:DAYLIGHT
BEGIN:STANDARD
TZOFFSETFROM:-0400
TZOFFSETTO:-0500
TZNAME:EST
DTSTART:20211107T060000
END:STANDARD
BEGIN:DAYLIGHT
TZOFFSETFROM:-0500
TZOFFSETTO:-0400
TZNAME:EDT
DTSTART:20220313T070000
END:DAYLIGHT
BEGIN:STANDARD
TZOFFSETFROM:-0400
TZOFFSETTO:-0500
TZNAME:EST
DTSTART:20221106T060000
END:STANDARD
BEGIN:DAYLIGHT
TZOFFSETFROM:-0500
TZOFFSETTO:-0400
TZNAME:EDT
DTSTART:20230312T070000
END:DAYLIGHT
BEGIN:STANDARD
TZOFFSETFROM:-0400
TZOFFSETTO:-0500
TZNAME:EST
DTSTART:20231105T060000
END:STANDARD
END:VTIMEZONE
BEGIN:VEVENT
DTSTART;TZID=America/New_York:20220213T103000
DTEND;TZID=America/New_York:20220213T113000
DTSTAMP:20260421T061804
CREATED:20220107T164649Z
LAST-MODIFIED:20220107T164649Z
UID:10000167-1644748200-1644751800@mindfulnesshamilton.ca
SUMMARY:Winter Mindfulness Walk at the RGB with Mindfulness/Yoga Teacher Lauren Anastasi
DESCRIPTION:Lauren Anastasi\, working with the philosophy of Zen Master Thich Nhat Hanh\, guides you to focus on the physical experience of walking and to be aware of our thoughts\, feelings and sensations\, as well as commune with nature. This practice can help reduce stress and increase positive emotions. The class includes instruction and 45 minutes of walking at a relaxed pace. Meeting location is emailed prior to each class. \nFee: $15 per walk + Service Fee (Members 10% off*)\nPlease pre-register 10 days** in advance of each date.
URL:https://mindfulnesshamilton.ca/event/winter-mindfulness-walk-at-the-rgb-with-mindfulness-yoga-teacher-lauren-anastasi
LOCATION:Royal Botanical Gardens\, various locations
END:VEVENT
END:VCALENDAR