BEGIN:VCALENDAR
VERSION:2.0
PRODID:-//Mindfulness Hamilton - ECPv6.15.20//NONSGML v1.0//EN
CALSCALE:GREGORIAN
METHOD:PUBLISH
X-WR-CALNAME:Mindfulness Hamilton
X-ORIGINAL-URL:https://mindfulnesshamilton.ca
X-WR-CALDESC:Events for Mindfulness Hamilton
REFRESH-INTERVAL;VALUE=DURATION:PT1H
X-Robots-Tag:noindex
X-PUBLISHED-TTL:PT1H
BEGIN:VTIMEZONE
TZID:America/New_York
BEGIN:DAYLIGHT
TZOFFSETFROM:-0500
TZOFFSETTO:-0400
TZNAME:EDT
DTSTART:20140309T070000
END:DAYLIGHT
BEGIN:STANDARD
TZOFFSETFROM:-0400
TZOFFSETTO:-0500
TZNAME:EST
DTSTART:20141102T060000
END:STANDARD
BEGIN:DAYLIGHT
TZOFFSETFROM:-0500
TZOFFSETTO:-0400
TZNAME:EDT
DTSTART:20150308T070000
END:DAYLIGHT
BEGIN:STANDARD
TZOFFSETFROM:-0400
TZOFFSETTO:-0500
TZNAME:EST
DTSTART:20151101T060000
END:STANDARD
BEGIN:DAYLIGHT
TZOFFSETFROM:-0500
TZOFFSETTO:-0400
TZNAME:EDT
DTSTART:20160313T070000
END:DAYLIGHT
BEGIN:STANDARD
TZOFFSETFROM:-0400
TZOFFSETTO:-0500
TZNAME:EST
DTSTART:20161106T060000
END:STANDARD
BEGIN:DAYLIGHT
TZOFFSETFROM:-0500
TZOFFSETTO:-0400
TZNAME:EDT
DTSTART:20170312T070000
END:DAYLIGHT
BEGIN:STANDARD
TZOFFSETFROM:-0400
TZOFFSETTO:-0500
TZNAME:EST
DTSTART:20171105T060000
END:STANDARD
BEGIN:DAYLIGHT
TZOFFSETFROM:-0500
TZOFFSETTO:-0400
TZNAME:EDT
DTSTART:20180311T070000
END:DAYLIGHT
BEGIN:STANDARD
TZOFFSETFROM:-0400
TZOFFSETTO:-0500
TZNAME:EST
DTSTART:20181104T060000
END:STANDARD
BEGIN:DAYLIGHT
TZOFFSETFROM:-0500
TZOFFSETTO:-0400
TZNAME:EDT
DTSTART:20190310T070000
END:DAYLIGHT
BEGIN:STANDARD
TZOFFSETFROM:-0400
TZOFFSETTO:-0500
TZNAME:EST
DTSTART:20191103T060000
END:STANDARD
BEGIN:DAYLIGHT
TZOFFSETFROM:-0500
TZOFFSETTO:-0400
TZNAME:EDT
DTSTART:20200308T070000
END:DAYLIGHT
BEGIN:STANDARD
TZOFFSETFROM:-0400
TZOFFSETTO:-0500
TZNAME:EST
DTSTART:20201101T060000
END:STANDARD
BEGIN:DAYLIGHT
TZOFFSETFROM:-0500
TZOFFSETTO:-0400
TZNAME:EDT
DTSTART:20210314T070000
END:DAYLIGHT
BEGIN:STANDARD
TZOFFSETFROM:-0400
TZOFFSETTO:-0500
TZNAME:EST
DTSTART:20211107T060000
END:STANDARD
BEGIN:DAYLIGHT
TZOFFSETFROM:-0500
TZOFFSETTO:-0400
TZNAME:EDT
DTSTART:20220313T070000
END:DAYLIGHT
BEGIN:STANDARD
TZOFFSETFROM:-0400
TZOFFSETTO:-0500
TZNAME:EST
DTSTART:20221106T060000
END:STANDARD
BEGIN:DAYLIGHT
TZOFFSETFROM:-0500
TZOFFSETTO:-0400
TZNAME:EDT
DTSTART:20230312T070000
END:DAYLIGHT
BEGIN:STANDARD
TZOFFSETFROM:-0400
TZOFFSETTO:-0500
TZNAME:EST
DTSTART:20231105T060000
END:STANDARD
BEGIN:DAYLIGHT
TZOFFSETFROM:-0500
TZOFFSETTO:-0400
TZNAME:EDT
DTSTART:20240310T070000
END:DAYLIGHT
BEGIN:STANDARD
TZOFFSETFROM:-0400
TZOFFSETTO:-0500
TZNAME:EST
DTSTART:20241103T060000
END:STANDARD
BEGIN:DAYLIGHT
TZOFFSETFROM:-0500
TZOFFSETTO:-0400
TZNAME:EDT
DTSTART:20250309T070000
END:DAYLIGHT
BEGIN:STANDARD
TZOFFSETFROM:-0400
TZOFFSETTO:-0500
TZNAME:EST
DTSTART:20251102T060000
END:STANDARD
BEGIN:DAYLIGHT
TZOFFSETFROM:-0500
TZOFFSETTO:-0400
TZNAME:EDT
DTSTART:20260308T070000
END:DAYLIGHT
BEGIN:STANDARD
TZOFFSETFROM:-0400
TZOFFSETTO:-0500
TZNAME:EST
DTSTART:20261101T060000
END:STANDARD
BEGIN:DAYLIGHT
TZOFFSETFROM:-0500
TZOFFSETTO:-0400
TZNAME:EDT
DTSTART:20270314T070000
END:DAYLIGHT
BEGIN:STANDARD
TZOFFSETFROM:-0400
TZOFFSETTO:-0500
TZNAME:EST
DTSTART:20271107T060000
END:STANDARD
END:VTIMEZONE
BEGIN:VTIMEZONE
TZID:UTC
BEGIN:STANDARD
TZOFFSETFROM:+0000
TZOFFSETTO:+0000
TZNAME:UTC
DTSTART:20150101T000000
END:STANDARD
END:VTIMEZONE
BEGIN:VEVENT
DTSTART;TZID=America/New_York:20260418T090000
DTEND;TZID=America/New_York:20260418T100000
DTSTAMP:20260421T191352
CREATED:20251212T032726Z
LAST-MODIFIED:20251212T032848Z
UID:10003747-1776502800-1776506400@mindfulnesshamilton.ca
SUMMARY:Free Meditation at The Putman Family YWCA
DESCRIPTION:We invite you to spend a peaceful hour meditating with others at the Putman Family YWCA. The sessions will be led by experienced facilitators\, giving you exposure to different approaches to mindfulness meditation from mostly guided to mostly silent. The meditation period is 30-45 minutes followed by 15 minutes of questions and discussion. \nPlease bring a mat and cushion if you have them. We will also have chairs and some mats on hand. \nStreet parking is available and you may also use the parking lot at the Crown Point Community Church north of the Y. \nNo matter your level of experience with mindful meditation\, you will benefit from this hour break from everyday life. \nYou are welcome to decide to come at the last minute. However we ask that you register in advance if possible so that we can notify you if there are any changes in the schedule. Registering will also put you on a list to be notified of other meditation opportunities we are planning for the future. To register in advance go to EVENT BRITE \nLocation: 52 Ottawa Street North \nTime: 9 to 10am \nJanuary 24th to June 20th (no class on February 14\, February 21\, April 4\, May 16 and June 6)
URL:https://mindfulnesshamilton.ca/event/free-meditation-at-the-putman-family-ywca-2/2026-04-18
LOCATION:YWCA – 52 Ottawa Street North\, 52 Ottawa Street North\, Hamilton\, Ontario\, L8H 3Y7\, Canada
CATEGORIES:Mindfulness Hamilton Events
ATTACH;FMTTYPE=image/png:https://mindfulnesshamilton.ca/wp-content/uploads/18.png
END:VEVENT
BEGIN:VEVENT
DTSTART;TZID=America/New_York:20241212T174500
DTEND;TZID=America/New_York:20241212T184500
DTSTAMP:20260421T191352
CREATED:20241022T201647Z
LAST-MODIFIED:20241125T064907Z
UID:10002425-1734025500-1734029100@mindfulnesshamilton.ca
SUMMARY:Mindfulness Meditation at the Stoney Creek Library
DESCRIPTION:We invite you to spend a peaceful hour meditating with others at the Stoney Creek Library. The sessions will be led by experienced facilitators\, giving you exposure to different approaches to mindfulness meditation from mostly guided to mostly silent. The meditation period is 30-45 minutes followed by 15 minutes of questions and discussion. \nNo matter your level of experience with mindful meditation\, you will benefit from this hour break from everyday life. \nNo registration is required. Simply drop in and enjoy.
URL:https://mindfulnesshamilton.ca/event/mindfulness-meditation-at-the-stoney-creek-library/2024-12-12
LOCATION:Stoney Creek Library\, 777 Highway 8\, Stoney Creek\, ON\, L8K2M7\, Canada
CATEGORIES:Mindfulness Hamilton Events,Post on Homepage
ATTACH;FMTTYPE=image/png:https://mindfulnesshamilton.ca/wp-content/uploads/library-background-flower.png
END:VEVENT
BEGIN:VEVENT
DTSTART;TZID=America/New_York:20241120T183000
DTEND;TZID=America/New_York:20241120T203000
DTSTAMP:20260421T191352
CREATED:20240917T123106Z
LAST-MODIFIED:20241020T203324Z
UID:10001730-1732127400-1732134600@mindfulnesshamilton.ca
SUMMARY:Grief Resides Among Us: A Mindful Approach
DESCRIPTION:Grief resides among us\, every day. \nGrief is something we all encounter throughout our lives. Whether it’s the loss of a loved one\, a job or career\, a relationship\, or even the gradual loss of physical or mental abilities due to aging or illness\, grief is a natural companion to these changes. \nOn a broader scale\, as we navigate the complexities of coexisting in the world\, many of us may also grieve for the suffering around us\, whether it is close to home or across the globe. \nGrief has the power to reshape who we are\, influencing how we connect with others and move through life. Mindfulness doesn’t take away grief but provides a way to move through it with compassion. Mindfulness can support the grieving process by fostering patience\, acceptance\, and non-judgment\, creating the space to cope and heal. \nThis two-hour interactive and experiential session offers an opportunity for everyone to explore mindful and compassionate ways to support themselves and others on the journey through grief. The goal is to provide practical tools for approaching grief with greater awareness. This workshop serves as a valuable introduction to understanding and managing grief mindfully. \nFee: Early bird until November 6th: $15 members; $25 non-member*; $5 student/unwaged\, Reg: $20 members; $30 non-member*; $10 student/unwaged \n*Note: Membership in Mindfulness Hamilton is $25 per year \nPurchase tickets for this event here.
URL:https://mindfulnesshamilton.ca/event/grief-resides-among-us-a-mindful-approach
LOCATION:St. Cuthbert’s Presbyterian Church\, 2 Bond St N\, Hamilton\, ON\, L8S 3W1\, Canada
CATEGORIES:Mindfulness Hamilton Events,Post on Homepage
ATTACH;FMTTYPE=image/png:https://mindfulnesshamilton.ca/wp-content/uploads/Grief-Resides-Among-Us.png
END:VEVENT
BEGIN:VEVENT
DTSTART;TZID=America/New_York:20241113T120000
DTEND;TZID=America/New_York:20241113T130000
DTSTAMP:20260421T191352
CREATED:20241112T152600Z
LAST-MODIFIED:20241112T152600Z
UID:10002426-1731499200-1731502800@mindfulnesshamilton.ca
SUMMARY:Free webinar on Internal Family Systems & Trauma-Sensitive Mindfulness! Wednesday\, November 13th 12:00pm ET
DESCRIPTION:David here. Just a friendly reminder that we’re going live tomorrow with our free webinar on Internal Family Systems & Trauma-Sensitive Mindfulness! \nGovinda and I are excited to share powerful insights on integrating IFS with trauma-sensitive mindfulness practice. Whether you’re a mindfulness teacher\, mental health professional\, or just interested in the topic\, you’ll learn practical tools for working with “parts” that arise during meditation and discover how IFS can transform your understanding of trauma responses in mindfulness settings. \n  \nZoom Link: https://us06web.zoom.us/j/89413789169 \n 
URL:https://mindfulnesshamilton.ca/event/free-webinar-on-internal-family-systems-trauma-sensitive-mindfulness-wednesday-november-13th-1200pm-et
LOCATION:Zoom
CATEGORIES:Community Events
ATTACH;FMTTYPE=image/png:https://mindfulnesshamilton.ca/wp-content/uploads/trauma-sensitive.png
END:VEVENT
BEGIN:VEVENT
DTSTART;TZID=UTC:20160323T173000
DTEND;TZID=UTC:20160525T193000
DTSTAMP:20260421T191352
CREATED:20160229T004315Z
LAST-MODIFIED:20160229T004622Z
UID:10000011-1458754200-1464204600@mindfulnesshamilton.ca
SUMMARY:Mindfulness Based Stress Reduction for Healthcare Providers
DESCRIPTION:Overview: \nThis 10-week course is geared specifically towards health care professionals and designed to promote both personal wellness and professional resilience and capacity. It provides the unique opportunity for health care professionals to develop their personal mindfulness practice as well as to examine the interface between mindfulness practice and the arts of healing and teaching. \nMindfulness is a non-judgmental way of relating to life circumstances so that they canbe approached with greater calm\, clarity and wisdom. \nOver 20 years of research has shown that MBSR participants report: \n\nLasting decreases in physical and psychological symptoms\nGreater ability to cope with stress\nGreater facility to learn\n Greater energy and enthusiasm for life\n\nProgram Goals: \n\nTo understand the conceptual foundation of mindfulness\nTo develop or deepen a personal meditation practice\nTo promote personal health\nTo promote professional resilience and capacity\nTo enhance interpersonal relationships\nTo learn to apply mindfulness in clinical practice and/or education\n\nFormat: \n\nGuided mindfulness meditation and yoga practices\nExercises to enhance awareness in everyday life\n Methods to deepen interpersonal communication\nDiscussion of ways to integrate mindfulness into clinical practice and/or education\n\n10-week Program\, plus all-day retreat \nDay of week: Tuesdays \nMar 22\, 2016 – May 24\, 2016 \n5:30 p.m. – 7:30 p.m. \nAll-day silent retreat: Saturday\, May 14\, 2016 \nFor further information and application please visit http://fhs.mcmaster.ca/facdev/documents/MBSRsp2016.pdf \n 
URL:https://mindfulnesshamilton.ca/event/mindfulness-based-stress-reduction-for-healthcare-providers
END:VEVENT
BEGIN:VEVENT
DTSTART;TZID=America/New_York:20150916T180000
DTEND;TZID=America/New_York:20150916T203000
DTSTAMP:20260421T191352
CREATED:20150623T050040Z
LAST-MODIFIED:20150720T231213Z
UID:10000014-1442426400-1442435400@mindfulnesshamilton.ca
SUMMARY:Mindful Communication for Healthcare Providers
DESCRIPTION:Have you been introduced to mindfulness but finding yourself wanting to explore how to deepen your practice and bring mindfulness into relationships and into your workplace? \nConsider enrolling in “Mindful Communication for Health Care Providers”. \n\n100 % of graduates have said that they would recommend the course to a colleague\n\nQuotes from the end of course evaluations: \n\n\n“The course has truly been excellent and life changing”.\n “Mindfulness tools and concepts have become embed in my daily life”.\n\n\n\n“I have gained a “tool box” or skills that I can apply to my professional practice as well as my personal life”.\n\n  \n\n“The community learning/sharing was an awesome experience and greatly enhanced the development of ideas and learning”.\n\nWhat are 1-3 key point(s) that you are taking away from the course so far and how you have or might you apply them? \n\n“Awareness of my internal dialogue\, being able to look after myself better\, being a better listener at work and personally”.\n“Not being judgmental\, experiencing the results.  Letting thought float through my mind when mediating and not “owning them” just letting them flow.  Being able to be more aware of myself\, others\, and my environment”.\n“Appreciating the moment and the beauty that exists that I was missing because I was too “busy” to care for myself; self-compassion; trusting intuition; less effort with better results”.\n“How to apply approaches at work to build resilience; How to debrief very difficult circumstances; How to create more reflective space”.\n\n\n\n\n\n\n “Equanimity\, being present; appreciative enquiry improved listening skills; greater awareness of my reactions; give pause before initial response and allow for processing of information;  I really hear people now”.\n\n\n\n\n\n\n\n\nThe course consists of 2 ½ hours sessions weekly on Tuesday evenings and runs from Sept 15 to Dec 1 2015. \nThe deadline for application is Sept 1 2015. \nSee http://fhs.mcmaster.ca/facdev/  for further details.  \n 
URL:https://mindfulnesshamilton.ca/event/mindful-communication-for-healthcare-providers
LOCATION:McMaster Innovation Park\, 175 Longwood Road South\,\, Hamilton\, Ontario\, Canada
END:VEVENT
END:VCALENDAR