BEGIN:VCALENDAR
VERSION:2.0
PRODID:-//Mindfulness Hamilton - ECPv6.15.20//NONSGML v1.0//EN
CALSCALE:GREGORIAN
METHOD:PUBLISH
X-ORIGINAL-URL:https://mindfulnesshamilton.ca
X-WR-CALDESC:Events for Mindfulness Hamilton
REFRESH-INTERVAL;VALUE=DURATION:PT1H
X-Robots-Tag:noindex
X-PUBLISHED-TTL:PT1H
BEGIN:VTIMEZONE
TZID:UTC
BEGIN:STANDARD
TZOFFSETFROM:+0000
TZOFFSETTO:+0000
TZNAME:UTC
DTSTART:20150101T000000
END:STANDARD
END:VTIMEZONE
BEGIN:VEVENT
DTSTART;TZID=UTC:20160620T080000
DTEND;TZID=UTC:20160624T224500
DTSTAMP:20260421T075109
CREATED:20160417T040205Z
LAST-MODIFIED:20160417T040205Z
UID:10000065-1466409600-1466808300@mindfulnesshamilton.ca
SUMMARY:“Growing Older and Aging” – A 5-Morning Insight Meditation Intensive With Donna Paige\, MSW
DESCRIPTION:WHEN:           Monday June 20 to Friday June 24\, 2016 – 8:00 – 9:45 a.m. \nWHERE:         Andrea Soos Yoga Studio – 17 King Street E.\, Suite 204\, Dundas \nThis intensive will explore the topic of growing older and aging as a process in which we are all fully engaged and which has been unstoppable since birth.  Through Mindfulness practice we can begin to see the impersonal and selfless nature of the process of aging as a doorway to freedom.  Designed for those with experience – beginners are welcome. \n  \nREGISTRATION: Please contact the Andrea Soos Yoga Studio at:  905-627-9310 or email at: info @andreasoosyoga.com for details.
URL:https://mindfulnesshamilton.ca/event/growing-older-and-aging-a-5-morning-insight-meditation-intensive-with-donna-paige-msw
LOCATION:Andrea Soos Yoga Studio\, 17 King St. E.\, Suite 204\,\, Dundas\, Ontario\, Canada
ORGANIZER;CN="Donna Paige":MAILTO:info @andreasoosyoga.com 
END:VEVENT
END:VCALENDAR