BEGIN:VCALENDAR
VERSION:2.0
PRODID:-//Mindfulness Hamilton - ECPv6.15.20//NONSGML v1.0//EN
CALSCALE:GREGORIAN
METHOD:PUBLISH
X-ORIGINAL-URL:https://mindfulnesshamilton.ca
X-WR-CALDESC:Events for Mindfulness Hamilton
REFRESH-INTERVAL;VALUE=DURATION:PT1H
X-Robots-Tag:noindex
X-PUBLISHED-TTL:PT1H
BEGIN:VTIMEZONE
TZID:UTC
BEGIN:STANDARD
TZOFFSETFROM:+0000
TZOFFSETTO:+0000
TZNAME:UTC
DTSTART:20150101T000000
END:STANDARD
END:VTIMEZONE
BEGIN:VTIMEZONE
TZID:America/New_York
BEGIN:DAYLIGHT
TZOFFSETFROM:-0500
TZOFFSETTO:-0400
TZNAME:EDT
DTSTART:20150308T070000
END:DAYLIGHT
BEGIN:STANDARD
TZOFFSETFROM:-0400
TZOFFSETTO:-0500
TZNAME:EST
DTSTART:20151101T060000
END:STANDARD
BEGIN:DAYLIGHT
TZOFFSETFROM:-0500
TZOFFSETTO:-0400
TZNAME:EDT
DTSTART:20160313T070000
END:DAYLIGHT
BEGIN:STANDARD
TZOFFSETFROM:-0400
TZOFFSETTO:-0500
TZNAME:EST
DTSTART:20161106T060000
END:STANDARD
BEGIN:DAYLIGHT
TZOFFSETFROM:-0500
TZOFFSETTO:-0400
TZNAME:EDT
DTSTART:20170312T070000
END:DAYLIGHT
BEGIN:STANDARD
TZOFFSETFROM:-0400
TZOFFSETTO:-0500
TZNAME:EST
DTSTART:20171105T060000
END:STANDARD
END:VTIMEZONE
BEGIN:VEVENT
DTSTART;TZID=UTC:20161005T173000
DTEND;TZID=UTC:20161005T203000
DTSTAMP:20260421T043103
CREATED:20160712T034713Z
LAST-MODIFIED:20161104T230051Z
UID:10000073-1475688600-1475699400@mindfulnesshamilton.ca
SUMMARY:Mindful Self Compassion
DESCRIPTION:October 5 to November 23\, 2016 from 5:30-8:30 \nwith a 4 hour retreat November 5th 9:30 -1:30 \n\nMelrose United Church\, \n86 Homewood Ave\nHamilton\, Ontario Canada
URL:https://mindfulnesshamilton.ca/event/mindful-self-compassion-4
LOCATION:Melrose United Church\, 86 Homewood Avenue\, Hamilton\, Ontario\, L8P2M2\, Canada
ORGANIZER;CN="Barbara Smith":MAILTO:info@mindfulselfcompassion.ca
END:VEVENT
BEGIN:VEVENT
DTSTART;TZID=UTC:20160604T093000
DTEND;TZID=UTC:20160723T123000
DTSTAMP:20260421T043103
CREATED:20160509T220104Z
LAST-MODIFIED:20160510T053240Z
UID:10000069-1465032600-1469277000@mindfulnesshamilton.ca
SUMMARY:Mindful Self Compassion
DESCRIPTION:Barbara Smith and Mary Linda Burgess \nMelrose United Church \n86 Homewood Ave \nJune 4- July 23\, 2016 \n9:30am to 12:30 \n“love reveals everything unlike itself.” \nMindful Self-Compassion (MSC) is an empirically-supported\, 8-week\, training program designed to cultivate the skill of self-compassion. Based on the groundbreaking research of Kristin Neff and the clinical expertise of Christopher Germer\, MSC teaches core principles and practices that enable participants to respond to difficult moments in their lives with kindness\, care and understanding. \nThe three key components of self-compassion are self-kindness\, a sense of common humanity\, and balanced\, mindful awareness. Kindness opens our hearts to suffering\, so we can give ourselves what we need. Common humanity opens us to our essential inter-relatedness\, so that we know we aren’t alone. Mindfulness opens us to the present moment\, so we can accept our experience with greater ease. Together they comprise a state of warm-hearted\, connected presence. \nSelf-compassion can be learned by anyone\, even those who didn’t receive enough affection in childhood or who feel uncomfortable when they are good to themselves. It’s a courageous attitude that stands up to harm\, including the harm that we unwittingly inflict on ourselves through self-criticism\, self-isolation\, or self-absorption. Self-compassion provides emotional strength and resilience\, allowing us to admit our shortcomings\, motivate ourselves with kindness\, forgive ourselves when needed\, relate wholeheartedly to others\, and be more authentically ourselves. \nRapidly expanding research demonstrates that self-compassion is strongly associated with emotional well-being\, less anxiety\, depression and stress\, maintenance of healthy habits such as diet and exercise\, and satisfying personal relationships. And it’s easier than you think. \nAfter participating in this workshop\, you’ll be able to: \n\nPractice self-compassion in daily life\nUnderstand the empirically-supported benefits of self-compassion\nMotivate yourself with kindness rather than criticism\nHandle difficult emotions with greater ease\nTransform challenging relationships\, old and new\nManage caregiver fatigue\nPractice the art of savoring and self-appreciation\n\nWhat To Expect \nProgram activities include meditation\, short talks\, experiential exercises\, group discussion\, and home practices. MSC is a workshop rather than a retreat. The goal is for participants to directly experience self-compassion and learn practices that evoke self-compassion in daily life. \n MSC is primarily a compassion training program rather than mindfulness training like Mindfulness-Based Stress Reduction (MBSR)\, although mindfulness is the foundation of self-compassion. MSC is also not psychotherapy insofar as the emphasis of MSC is on building emotional resources rather than addressing old wounds. Positive change occurs naturally as we develop the capacity to be with ourselves in a kinder\, more compassionate way. \nIt is said that “love reveals everything unlike itself.” While some difficult emotions may arise when practicing self-compassion\, MSC teachers are committed to providing a safe\, supportive environment for this process to unfold\, and to making the journey interesting and enjoyable for everyone. \nMSC includes 8 weekly sessions of 3 hours each\, in addition to a 4-hour retreat. Prior to registering\, participants should plan to attend every session and practice mindfulness and self-compassion at least 30 minutes per day throughout the program. \nNOTE this program is arranged for 9 weeks to accommodate the 4 hr retreat. \nPrerequisites \nNo previous experience with mindfulness or meditation is required to attend MSC. To insure safety\, participants are asked to provide background information when they register for the program. \nIt is recommended that participants read one or both of following books before or during the program: \n\nSelf-Compassion: The Proven Power of Being Kind to Yourself\, by Kristin Neff\nThe Mindful Path to Self-Compassion\, by Christopher Germer\n\nThis program fulfills one of the prerequisites for becoming a MSC teacher. For more information on MSC and MSC Teacher Training\, please visit www.CenterForMSC.org. \nBarbara Smith\, MFA\, GIT\, MS\,psych. Trained Mindful Self Compassion teacher \nMary Linda Burgess MSW\, RSW\, student of Mindful Self Compassion\, and Mindfulness \nRegistration please contact info@mindfulselfcompassionhamilton.org for inquiries \nInformation www.mindfulselfcompassionhamilton.org \nCOST Early Bird:$325.00 before May 20/16; $350 after May 20/16
URL:https://mindfulnesshamilton.ca/event/mindful-self-compassion-3
LOCATION:Melrose United Church\, 86 Homewood Ave\, Hamilton\, Ontario\, Canada
ORGANIZER;CN="Barbara Smith":MAILTO:info@mindfulselfcompassion.ca
END:VEVENT
BEGIN:VEVENT
DTSTART;TZID=America/New_York:20160130T093000
DTEND;TZID=America/New_York:20160326T213000
DTSTAMP:20260421T043103
CREATED:20151122T200615Z
LAST-MODIFIED:20151122T200615Z
UID:10000009-1454146200-1459027800@mindfulnesshamilton.ca
SUMMARY:Mindful Self Compassion
DESCRIPTION:Barbara Smith and Mary Linda Burgess \nMelrose United Church \n86 Homewood Ave \nJanuary 30-March 26 \n9:30am to noon \n“love reveals everything unlike itself.” \nMindful Self-Compassion (MSC) is an empirically-supported\, 8-week\, training program designed to cultivate the skill of self-compassion. Based on the groundbreaking research of Kristin Neff and the clinical expertise of Christopher Germer\, MSC teaches core principles and practices that enable participants to respond to difficult moments in their lives with kindness\, care and understanding. \nThe three key components of self-compassion are self-kindness\, a sense of common humanity\, and balanced\, mindful awareness. Kindness opens our hearts to suffering\, so we can give ourselves what we need. Common humanity opens us to our essential inter-relatedness\, so that we know we aren’t alone. Mindfulness opens us to the present moment\, so we can accept our experience with greater ease. Together they comprise a state of warm-hearted\, connected presence. \nSelf-compassion can be learned by anyone\, even those who didn’t receive enough affection in childhood or who feel uncomfortable when they are good to themselves. It’s a courageous attitude that stands up to harm\, including the harm that we unwittingly inflict on ourselves through self-criticism\, self-isolation\, or self-absorption. Self-compassion provides emotional strength and resilience\, allowing us to admit our shortcomings\, motivate ourselves with kindness\, forgive ourselves when needed\, relate wholeheartedly to others\, and be more authentically ourselves. \nRapidly expanding research demonstrates that self-compassion is strongly associated with emotional well-being\, less anxiety\, depression and stress\, maintenance of healthy habits such as diet and exercise\, and satisfying personal relationships. And it’s easier than you think. \nAfter participating in this workshop\, you’ll be able to: \n\nPractice self-compassion in daily life\nUnderstand the empirically-supported benefits of self-compassion\nMotivate yourself with kindness rather than criticism\nHandle difficult emotions with greater ease\nTransform challenging relationships\, old and new\nManage caregiver fatigue\nPractice the art of savoring and self-appreciation\n\nWhat To Expect \nProgram activities include meditation\, short talks\, experiential exercises\, group discussion\, and home practices. MSC is a workshop rather than a retreat. The goal is for participants to directly experience self-compassion and learn practices that evoke self-compassion in daily life.  \n MSC is primarily a compassion training program rather than mindfulness training like Mindfulness-Based Stress Reduction (MBSR)\, although mindfulness is the foundation of self-compassion. MSC is also not psychotherapy insofar as the emphasis of MSC is on building emotional resources rather than addressing old wounds. Positive change occurs naturally as we develop the capacity to be with ourselves in a kinder\, more compassionate way. \nIt is said that “love reveals everything unlike itself.” While some difficult emotions may arise when practicing self-compassion\, MSC teachers are committed to providing a safe\, supportive environment for this process to unfold\, and to making the journey interesting and enjoyable for everyone.  \nMSC includes 8 weekly sessions of 3 hours each\, in addition to a 4-hour retreat. Prior to registering\, participants should plan to attend every session and practice mindfulness and self-compassion at least 30 minutes per day throughout the program. \nNOTE this program is arranged for 9 weeks to accommodate the 4 hr retreat. \nPrerequisites \nNo previous experience with mindfulness or meditation is required to attend MSC. To insure safety\, participants are asked to provide background information when they register for the program. \nIt is recommended that participants read one or both of following books before or during the program: \n\nSelf-Compassion: The Proven Power of Being Kind to Yourself\, by Kristin Neff\nThe Mindful Path to Self-Compassion\, by Christopher Germer\n\nThis program fulfills one of the prerequisites for becoming a MSC teacher. For more information on MSC and MSC Teacher Training\, please visit www.CenterForMSC.org. \nBarbara Smith\, MFA\, GIT\, MS\,psych. Trained Mindful Self Compassion teacher \nMary Linda Burgess MSW\, RSW\, student of Mindful Self Compassion\, and Mindfulness \nRegistration  please contact info@mindfulselfcompassionhamilton.org for inquiries \nInformation www.mindfulselfcompassionhamilton.org \nCOST  Early Bird:$300.00 before Jan 15/16; $325 after Jan 15/16
URL:https://mindfulnesshamilton.ca/event/mindful-self-compassion
LOCATION:Mindful Self Compassion\, 86 Homewood\, Hamilton\, ON\, L8P 2M4\, Canada
ORGANIZER;CN="Barbara Smith":MAILTO:info@mindfulselfcompassion.ca
END:VEVENT
END:VCALENDAR