BEGIN:VCALENDAR
VERSION:2.0
PRODID:-//Mindfulness Hamilton - ECPv6.15.20//NONSGML v1.0//EN
CALSCALE:GREGORIAN
METHOD:PUBLISH
X-ORIGINAL-URL:https://mindfulnesshamilton.ca
X-WR-CALDESC:Events for Mindfulness Hamilton
REFRESH-INTERVAL;VALUE=DURATION:PT1H
X-Robots-Tag:noindex
X-PUBLISHED-TTL:PT1H
BEGIN:VTIMEZONE
TZID:UTC
BEGIN:STANDARD
TZOFFSETFROM:+0000
TZOFFSETTO:+0000
TZNAME:UTC
DTSTART:20170101T000000
END:STANDARD
END:VTIMEZONE
BEGIN:VEVENT
DTSTART;TZID=UTC:20180117T173000
DTEND;TZID=UTC:20180117T203000
DTSTAMP:20260421T093449
CREATED:20171122T191757Z
LAST-MODIFIED:20180215T085447Z
UID:10000193-1516210200-1516221000@mindfulnesshamilton.ca
SUMMARY:Mindful Self Compassion 8 week course
DESCRIPTION:  \n\nNext Course: Wednesdays Jan 17 to Mar 7\, 2018\n             5:30pm to 8:30pm\n             Retreat: Sat. Feb 17\, 2018\, 9:30am to 1:30pm\nLocation:  Melrose United Church;                                                                                                                  86 Homewood Ave\,                                                                                                                                         Hamilton\, ON L8P 2M4                                                                                                                                             in the Parlour Room \nMindful Self-Compassion (MSC) is an empirically-supported\, 8-week\, training program designed to cultivate the skill of self-compassion. Based on the groundbreaking research of Kristin Neff and the clinical expertise of Christopher Germer\, MSC teaches core principles and practices that enable participants to respond to difficult moments in their lives with kindness\, care and understanding. \nThe three key components of self-compassion are self-kindness\, a sense of common humanity\, and balanced\, mindful awareness. Kindness opens our hearts to suffering\, so we can give ourselves what we need. Common humanity opens us to our essential inter-relatedness\, so that we know we aren’t alone. Mindfulness opens us to the present moment\, so we can accept our experience with greater ease. Together they comprise a state of warm-hearted\, connected presence. \nSelf-compassion can be learned by anyone\, even those who didn’t receive enough affection in childhood or who feel uncomfortable when they are good to themselves. It’s a courageous attitude that stands up to harm\, including the harm that we unwittingly inflict on ourselves through self-criticism\, self-isolation\, or self-absorption. Self-compassion provides emotional strength and resilience\, allowing us to admit our shortcomings\, motivate ourselves with kindness\, forgive ourselves when needed\, relate wholeheartedly to others\, and be more authentically ourselves. \nRapidly expanding research demonstrates that self-compassion is strongly associated with emotional well-being\, less anxiety\, depression and stress\, maintenance of healthy habits such as diet and exercise\, and satisfying personal relationships. And it’s easier than you think. \nAfter participating in this workshop\, you’ll be able to: \nPractice self-compassion in daily life\nUnderstand the empirically-supported benefits of self-compassion\nMotivate yourself with kindness rather than criticism\nHandle difficult emotions with greater ease\nTransform challenging relationships\, old and new\nManage caregiver fatigue\nPractice the art of savoring and self-appreciation
URL:https://mindfulnesshamilton.ca/event/mindful-self-compassion-8-week-course
LOCATION:Melrose United Church\, 86 Homewood Avenue\, Hamilton\, Ontario\, L8P2M2\, Canada
ORGANIZER;CN="Barbara Smith":MAILTO:info@mindfulselfcompassion.ca
END:VEVENT
END:VCALENDAR