BEGIN:VCALENDAR
VERSION:2.0
PRODID:-//Mindfulness Hamilton - ECPv6.15.20//NONSGML v1.0//EN
CALSCALE:GREGORIAN
METHOD:PUBLISH
X-ORIGINAL-URL:https://mindfulnesshamilton.ca
X-WR-CALDESC:Events for Mindfulness Hamilton
REFRESH-INTERVAL;VALUE=DURATION:PT1H
X-Robots-Tag:noindex
X-PUBLISHED-TTL:PT1H
BEGIN:VTIMEZONE
TZID:America/New_York
BEGIN:DAYLIGHT
TZOFFSETFROM:-0500
TZOFFSETTO:-0400
TZNAME:EDT
DTSTART:20230312T070000
END:DAYLIGHT
BEGIN:STANDARD
TZOFFSETFROM:-0400
TZOFFSETTO:-0500
TZNAME:EST
DTSTART:20231105T060000
END:STANDARD
BEGIN:DAYLIGHT
TZOFFSETFROM:-0500
TZOFFSETTO:-0400
TZNAME:EDT
DTSTART:20240310T070000
END:DAYLIGHT
BEGIN:STANDARD
TZOFFSETFROM:-0400
TZOFFSETTO:-0500
TZNAME:EST
DTSTART:20241103T060000
END:STANDARD
BEGIN:DAYLIGHT
TZOFFSETFROM:-0500
TZOFFSETTO:-0400
TZNAME:EDT
DTSTART:20250309T070000
END:DAYLIGHT
BEGIN:STANDARD
TZOFFSETFROM:-0400
TZOFFSETTO:-0500
TZNAME:EST
DTSTART:20251102T060000
END:STANDARD
END:VTIMEZONE
BEGIN:VEVENT
DTSTART;TZID=America/New_York:20240928T130000
DTEND;TZID=America/New_York:20240928T193000
DTSTAMP:20260425T224326
CREATED:20240904T201216Z
LAST-MODIFIED:20240918T175427Z
UID:10001339-1727528400-1727551800@mindfulnesshamilton.ca
SUMMARY:Fall into Gratitude Wellness Day
DESCRIPTION:We’d love for you to join us!\nJoin Dr. Joe Kim\, Author Carla LaBella\, & Alexa Geleynse for a day   of rest\, renewal\, and rejuvenation as we Fall into Gratitude. Gently open and refresh your body\, mind\, and spirit with yoga\, meditation\, nourishing food\, inspiring speakers\, and self-care activities. \n\n\nWhen?\n\n\n\n\nSaturday September 28\n1pm – 7:30pm \n\n\n\n\nWhere?\n\n\n\n\nDe La Sol Yoga Studios \n430 York Blvd \nHamilton\, Ontario
URL:https://mindfulnesshamilton.ca/event/fall-into-gratitude-wellness-day
LOCATION:De La Sol Yoga Studios\, 430 York Blvd\, Hamilton\, ON\, Canada
CATEGORIES:Community Events
ATTACH;FMTTYPE=image/png:https://mindfulnesshamilton.ca/wp-content/uploads/poster-2.png
ORGANIZER;CN="Alexa Gelynse":MAILTO:alexa@yogalexa.ca
END:VEVENT
END:VCALENDAR