BEGIN:VCALENDAR
VERSION:2.0
PRODID:-//Mindfulness Hamilton - ECPv6.15.20//NONSGML v1.0//EN
CALSCALE:GREGORIAN
METHOD:PUBLISH
X-WR-CALNAME:Mindfulness Hamilton
X-ORIGINAL-URL:https://mindfulnesshamilton.ca
X-WR-CALDESC:Events for Mindfulness Hamilton
REFRESH-INTERVAL;VALUE=DURATION:PT1H
X-Robots-Tag:noindex
X-PUBLISHED-TTL:PT1H
BEGIN:VTIMEZONE
TZID:America/New_York
BEGIN:DAYLIGHT
TZOFFSETFROM:-0500
TZOFFSETTO:-0400
TZNAME:EDT
DTSTART:20220313T070000
END:DAYLIGHT
BEGIN:STANDARD
TZOFFSETFROM:-0400
TZOFFSETTO:-0500
TZNAME:EST
DTSTART:20221106T060000
END:STANDARD
BEGIN:DAYLIGHT
TZOFFSETFROM:-0500
TZOFFSETTO:-0400
TZNAME:EDT
DTSTART:20230312T070000
END:DAYLIGHT
BEGIN:STANDARD
TZOFFSETFROM:-0400
TZOFFSETTO:-0500
TZNAME:EST
DTSTART:20231105T060000
END:STANDARD
BEGIN:DAYLIGHT
TZOFFSETFROM:-0500
TZOFFSETTO:-0400
TZNAME:EDT
DTSTART:20240310T070000
END:DAYLIGHT
BEGIN:STANDARD
TZOFFSETFROM:-0400
TZOFFSETTO:-0500
TZNAME:EST
DTSTART:20241103T060000
END:STANDARD
END:VTIMEZONE
BEGIN:VEVENT
DTSTART;TZID=America/New_York:20230502T190000
DTEND;TZID=America/New_York:20230502T210000
DTSTAMP:20260421T143254
CREATED:20230323T154424Z
LAST-MODIFIED:20230323T154834Z
UID:10000447-1683054000-1683061200@mindfulnesshamilton.ca
SUMMARY:“The Way Out Is In”: An Evening of Meditation\, Music & Poetry  May 2 at 7:00 pm EST
DESCRIPTION:The Buddhism\, Psychology and Mental Health Program\, the Robert H.N. Ho Family Foundation Centre for Buddhist Studies\, and New College are proud to co-sponsor a series of events hosted by a delegation of monastics in the tradition of Plum Village\, founded by the internationally renowned scholar\, peace activist and Zen Master\, Thich Nhat Hanh. Event details & registration are below. \n\n\n\n\n\n\n\n\n\n\n\nA 2.5-hour meditative event with a wide range of musical and cultural styles\, ranging from classical orchestral to hip hop\, featuring the monastics of Plum Village\, artist Born I\, and friends. \nTime: 7:00 pm – 9:30 pm\, doors open 6:00 pm \nLocation: William Doo Auditorium\, New College\, University of Toronto Downtown Campus \nGeneral Admission: $20 (discounts for students) \nLearn more and register at https://May2023MusicAndPoetry.eventbrite.com \nThis special two-hour event includes a wide range of musical/cultural styles\, ranging from classical orchestral to hip hop. Through meditation\, poetry readings and musical performance we will explore and honor the legacy of scholar\, poet\, peace activist and Zen Master Thich Nhat Hanh. The evening’s program has been curated by senior monastic Dharma teachers from Thich Nhat Hanh’s Plum Village centre in France. Drawing upon the diverse backgrounds and perspectives of our professional performers\, our aspiration is to collectively co-create an atmosphere of peace and joy that can be healing and inspiring for all those in attendance. \nLocation: William Doo Auditorium\, New College\, University of Toronto Downtown Campus \nGeneral Admission: $20 (discounts for students)
URL:https://mindfulnesshamilton.ca/event/the-way-out-is-in-an-evening-of-meditation-music-poetry-may-2-at-700-pm-est
LOCATION:Ontario
END:VEVENT
BEGIN:VEVENT
DTSTART;TZID=America/New_York:20230504T193000
DTEND;TZID=America/New_York:20230504T213000
DTSTAMP:20260421T143254
CREATED:20230323T155419Z
LAST-MODIFIED:20230418T193230Z
UID:10000448-1683228600-1683235800@mindfulnesshamilton.ca
SUMMARY:Plum Village Delegation  presents “Applied Mindfulness: A new way of seeing\, being & acting”  May 4\, 2023 at 7:30 pm EST
DESCRIPTION:The Buddhism\, Psychology and Mental Health Program\, the Robert H.N. Ho Family Foundation Centre for Buddhist Studies\, and New College are proud to co-sponsor a series of events hosted by a delegation of monastics in the tradition of Plum Village\, founded by the internationally renowned scholar\, peace activist and Zen Master\, Thich Nhat Hanh. Event details & registration are below. \n\n\n\n\n\n\n\n\n\n\n\nTime: 7:30 pm – 9:30 pm\, doors open 6:00 pm \nLocation: MacLeod Auditorium\, Medical Sciences Building\, University of Toronto Downtown Campus \nGeneral Admission: $20 (discounts for students & healthcare workers) \nLearn more and register at https://May2023PublicTalk.eventbrite.ca \nHow can you apply Engaged Mindfulness in your daily life? How might mindfulness help us to collectively address the challenges we face as a human species? How do these practices inform our approaches to handling strong emotions\, such as our individual and collective grief? Join us in exploring these topics and more through a presentation\, followed by a discussion\, with senior monastic Dharma teachers from scholar\, poet\, peace activist and Zen Master Thich Nhat Hanh’s Plum Village center in France. They will share practical examples of how Mindfulness practices can be applied in the context of our daily lives to cultivate insight\, compassion\, build resilience\, non-fear and nurture a culture of inclusivity and loving kindness.
URL:https://mindfulnesshamilton.ca/event/applied-mindfulness-a-new-way-of-seeing-being-acting-may-4-2023-at-730-pm-est
LOCATION:Ontario
END:VEVENT
BEGIN:VEVENT
DTSTART;TZID=America/New_York:20230505T170000
DTEND;TZID=America/New_York:20230508T170000
DTSTAMP:20260421T143254
CREATED:20230323T161837Z
LAST-MODIFIED:20230418T193341Z
UID:10000449-1683306000-1683565200@mindfulnesshamilton.ca
SUMMARY:Plum Village Delegation Presents “The Way Out is In”  4-Day In-Person Retreat May 5th-8th
DESCRIPTION:The Buddhism\, Psychology and Mental Health Program\, the Robert H.N. Ho Family Foundation Centre for Buddhist Studies\, and New College are proud to co-sponsor a series of events hosted by a delegation of monastics in the tradition of Plum Village\, founded by the internationally renowned scholar\, peace activist and Zen Master\, Thich Nhat Hanh. Event details & registration are below. \nLocation: Durham College\, Oshawa\, ON (1hr drive outside of Toronto & GO Bus Accessible) \nWho: Adults ages 18 and up \nCost: $670 – $900 (includes 3-nights accommodation & meals) scholarships available \nLearn more and register at https://may2023retreat.eventbrite.ca/ \n 
URL:https://mindfulnesshamilton.ca/event/the-way-out-is-in-4-day-in-person-retreat-may-5th-8th
LOCATION:Ontario
END:VEVENT
END:VCALENDAR