BEGIN:VCALENDAR
VERSION:2.0
PRODID:-//Mindfulness Hamilton - ECPv6.15.20//NONSGML v1.0//EN
CALSCALE:GREGORIAN
METHOD:PUBLISH
X-WR-CALNAME:Mindfulness Hamilton
X-ORIGINAL-URL:https://mindfulnesshamilton.ca
X-WR-CALDESC:Events for Mindfulness Hamilton
REFRESH-INTERVAL;VALUE=DURATION:PT1H
X-Robots-Tag:noindex
X-PUBLISHED-TTL:PT1H
BEGIN:VTIMEZONE
TZID:America/New_York
BEGIN:DAYLIGHT
TZOFFSETFROM:-0500
TZOFFSETTO:-0400
TZNAME:EDT
DTSTART:20210314T070000
END:DAYLIGHT
BEGIN:STANDARD
TZOFFSETFROM:-0400
TZOFFSETTO:-0500
TZNAME:EST
DTSTART:20211107T060000
END:STANDARD
BEGIN:DAYLIGHT
TZOFFSETFROM:-0500
TZOFFSETTO:-0400
TZNAME:EDT
DTSTART:20220313T070000
END:DAYLIGHT
BEGIN:STANDARD
TZOFFSETFROM:-0400
TZOFFSETTO:-0500
TZNAME:EST
DTSTART:20221106T060000
END:STANDARD
BEGIN:DAYLIGHT
TZOFFSETFROM:-0500
TZOFFSETTO:-0400
TZNAME:EDT
DTSTART:20230312T070000
END:DAYLIGHT
BEGIN:STANDARD
TZOFFSETFROM:-0400
TZOFFSETTO:-0500
TZNAME:EST
DTSTART:20231105T060000
END:STANDARD
END:VTIMEZONE
BEGIN:VEVENT
DTSTART;TZID=America/New_York:20220127T190000
DTEND;TZID=America/New_York:20220127T200000
DTSTAMP:20260424T154200
CREATED:20211211T194356Z
LAST-MODIFIED:20220107T223720Z
UID:10000166-1643310000-1643313600@mindfulnesshamilton.ca
SUMMARY:Riding the Wave: Using Unified Mindfulness’ See-Hear- Feel (SHF) Technique to Work with Challenging Emotions: An Evening Workshop with Carla LaBella
DESCRIPTION:Mindfulness Hamilton Presents | Riding the Wave: Using Unified Mindfulness’ See-Hear-Feel (SHF) Technique to Work with Challenging Emotions \nREGISTER HERE\nHow we can use mindfulness and meditation practices to find balance\, calm and strength? An Evening Workshop with Carla LaBella Jan 27\, 7:00-9:00 PM on Zoom \nDescription: Do you ever find yourself overwhelmed with “big” emotions? Please join us for this interactive and experiential session where you will learn how mindfulness can help you work with challenging emotions. Topics will include: \n\nUnderstanding your emotions\, and why you need to experience the full spectrum of emotions; you just don’t want to get stuck in the more challenging ones.\nLearning UM’s SHF technique and how it can be applied to these emotional experiences when they arise.\n Learning about Life practice. Meditation is not only about finding time to sit on one’s cushion. You will learn about formal practice\, microhits\, and background practice\, and the flexibility of practicing anytime\, anywhere.\nThe evening will include some theory\, practical mindfulness exercises and techniques\, questions and discussion\, reflection and teaching around what arises for participants during the session.\nThis workshop will be suitable for all levels of experience with mindfulness.\n\nAbout the Presenter \n \nCarla LaBella is a Professor of Psychology at Mohawk College. Her engaging and dynamic teaching style has attracted hundreds of people to her popular wellness series where she encourages participants to be mindful\, practice self-care\, cultivate self-compassion\, and ultimately find and live their purpose. Her passion for building resiliency has led to the co-development of the College’s first-ever Positive Psychology course. She also has a strong commitment to community mental wellness and serves as a board member for the Suicide Prevention Community Council of Hamilton and the Hamilton Program for Schizophrenia. Recently\, she was a nominee for the YWCA Women of Distinction award (2018) and recipient of the Jacqui Candlish Award for Excellence in Suicide Prevention Work (2019). She is a Unified Mindfulness Level 2 Coach\, holds a Certificate in Positive Psychology from the Flourishing Center\, M.A. in Psychology from the University of Waterloo and Honours B.A. in Psychology from McMaster University. \n  \n  \n  \nQuestions? MindfulnessHamilton@gmail.com\nWebsite: mindfulnesshamilton.ca\nTickets: go to Event Brite
URL:https://mindfulnesshamilton.ca/event/riding-the-wave-using-unified-mindfulness-see-hear-feel-shf-technique-to-work-with-challenging-emotions
LOCATION:Ontario
ATTACH;FMTTYPE=image/png:https://mindfulnesshamilton.ca/wp-content/uploads/event-brite.png
END:VEVENT
END:VCALENDAR