BEGIN:VCALENDAR
VERSION:2.0
PRODID:-//Mindfulness Hamilton - ECPv6.15.20//NONSGML v1.0//EN
CALSCALE:GREGORIAN
METHOD:PUBLISH
X-ORIGINAL-URL:https://mindfulnesshamilton.ca
X-WR-CALDESC:Events for Mindfulness Hamilton
REFRESH-INTERVAL;VALUE=DURATION:PT1H
X-Robots-Tag:noindex
X-PUBLISHED-TTL:PT1H
BEGIN:VTIMEZONE
TZID:America/New_York
BEGIN:DAYLIGHT
TZOFFSETFROM:-0500
TZOFFSETTO:-0400
TZNAME:EDT
DTSTART:20200308T070000
END:DAYLIGHT
BEGIN:STANDARD
TZOFFSETFROM:-0400
TZOFFSETTO:-0500
TZNAME:EST
DTSTART:20201101T060000
END:STANDARD
BEGIN:DAYLIGHT
TZOFFSETFROM:-0500
TZOFFSETTO:-0400
TZNAME:EDT
DTSTART:20210314T070000
END:DAYLIGHT
BEGIN:STANDARD
TZOFFSETFROM:-0400
TZOFFSETTO:-0500
TZNAME:EST
DTSTART:20211107T060000
END:STANDARD
BEGIN:DAYLIGHT
TZOFFSETFROM:-0500
TZOFFSETTO:-0400
TZNAME:EDT
DTSTART:20220313T070000
END:DAYLIGHT
BEGIN:STANDARD
TZOFFSETFROM:-0400
TZOFFSETTO:-0500
TZNAME:EST
DTSTART:20221106T060000
END:STANDARD
END:VTIMEZONE
BEGIN:VEVENT
DTSTART;TZID=America/New_York:20211206T173000
DTEND;TZID=America/New_York:20211206T203000
DTSTAMP:20260424T170742
CREATED:20210709T190855Z
LAST-MODIFIED:20210808T113447Z
UID:10000150-1638811800-1638822600@mindfulnesshamilton.ca
SUMMARY:Mindful Self Compassion 8-Week Training Course
DESCRIPTION:  \nAre you too hard on yourself? Would you like to learn to motivate yourself with compassion instead of criticism? MSC is an evidence-based 8-week\, training program designed to cultivate the skill of self-compassion. Based on the groundbreaking research of Kristin Neff and the clinical expertise of Christopher Germer\, MSC teaches core principles and practices that enable participants to respond to difficult moments in their lives with kindness\, care and understanding. Participants learn to stop being so hard on themselves\, to motivate themselves with kindness rather than criticism\, to handle difficult emotions with more ease\, to handle caregiver stress with more ease\, and more. Research has shown that MSC training results in increases in self-compassion\, mindfulness\, and compassion for others; decreases in depression\, anxiety\, stress\, and emotional avoidance; and\, increases in social connectedness\, life satisfaction\, and happiness. If you are in a helping position or profession\, such as parenting\,  physicians\, social workers\, psychologists\, RPs\, teachers\, nurses\, physiotherapists\, etc.\, this course not only helps you on a personal level\, i.e. builds your capacity to experience less burn-out\, it also gives you Professional Development: new skills to both help and teach to the people you work with! You are not required to be in one of those professions to participate in this course\, nor is previous experience with meditation required.  Mary Linda Burgess and Natalie Sobel\, both Trained Teachers (from The Center for Mindful Self Compassion) and MSWs are grateful to bring this course to Hamilton once again\, LIVE and IN PERSON (hurray!) unless we go into lockdown again at the time of the course\, in which case we will pivot to the online platform (and reduce the fee). A limited number of scholarship spots are available. Please email Natalie for more information and registration info: natalie.msc@bell.net.
URL:https://mindfulnesshamilton.ca/event/mindful-self-compassion-8-week-training-course/2021-12-06
LOCATION:Ontario
ATTACH;FMTTYPE=image/png:https://mindfulnesshamilton.ca/wp-content/uploads/Natalies-mcs-poster.png
END:VEVENT
END:VCALENDAR