BEGIN:VCALENDAR
VERSION:2.0
PRODID:-//Mindfulness Hamilton - ECPv6.15.20//NONSGML v1.0//EN
CALSCALE:GREGORIAN
METHOD:PUBLISH
X-WR-CALNAME:Mindfulness Hamilton
X-ORIGINAL-URL:https://mindfulnesshamilton.ca
X-WR-CALDESC:Events for Mindfulness Hamilton
REFRESH-INTERVAL;VALUE=DURATION:PT1H
X-Robots-Tag:noindex
X-PUBLISHED-TTL:PT1H
BEGIN:VTIMEZONE
TZID:America/New_York
BEGIN:DAYLIGHT
TZOFFSETFROM:-0500
TZOFFSETTO:-0400
TZNAME:EDT
DTSTART:20200308T070000
END:DAYLIGHT
BEGIN:STANDARD
TZOFFSETFROM:-0400
TZOFFSETTO:-0500
TZNAME:EST
DTSTART:20201101T060000
END:STANDARD
BEGIN:DAYLIGHT
TZOFFSETFROM:-0500
TZOFFSETTO:-0400
TZNAME:EDT
DTSTART:20210314T070000
END:DAYLIGHT
BEGIN:STANDARD
TZOFFSETFROM:-0400
TZOFFSETTO:-0500
TZNAME:EST
DTSTART:20211107T060000
END:STANDARD
BEGIN:DAYLIGHT
TZOFFSETFROM:-0500
TZOFFSETTO:-0400
TZNAME:EDT
DTSTART:20220313T070000
END:DAYLIGHT
BEGIN:STANDARD
TZOFFSETFROM:-0400
TZOFFSETTO:-0500
TZNAME:EST
DTSTART:20221106T060000
END:STANDARD
END:VTIMEZONE
BEGIN:VEVENT
DTSTART;TZID=America/New_York:20211005T190000
DTEND;TZID=America/New_York:20211005T210000
DTSTAMP:20260424T201140
CREATED:20210614T170444Z
LAST-MODIFIED:20210615T012700Z
UID:10000141-1633460400-1633467600@mindfulnesshamilton.ca
SUMMARY:Chronic Pain and the Role of Mindfulness with Amy Hondronicols: An Evening Workshop with Amy Hondronicals Oct 5 2021
DESCRIPTION:This will be an interactive workshop with a number of mindfulness practices and time for Q&A \nAmy will define chronic pain and mindfulness\, from the context of her approach to practice of physiotherapy.   \nShe will discuss:  \n\nThe existence of pain with and without damage\, the example of phantom limb pain\, and how the context affects pain perception.\nNeuroplasticity and how is that related to mindfulness. She will discuss brain maps\, how they are affected by pain and injury\, use\, and mindfulness.\nThe stress response in pain and the acute and long-term changes that can happen. \n\n\nThe connection between thoughts\, emotions and pain \nMindful strategies to help cope with chronic pain: movement\, graduated challenges\, breathing practices\, progressive muscle relaxation\, positive self-talk\, and education \n\n  \nAmy is a physiotherapist working in a public setting. She encounters people dealing with chronic pain on a daily basis\, and this has shaped her practice to be aware of the factors that affect pain in every interaction. She thinks that mindfulness plays a key role in how physiotherapy can help people move better\, and cope with pain. In particular\, she is interested in how mindful movement can power change in the nervous system. Some of her favourite ways to move are sailing on the Bay or biking through Hamilton! 
URL:https://mindfulnesshamilton.ca/event/chronic-pain-and-the-role-of-mindfulness-with-amy-hondronicols-an-evening-workshop-with-amy-hondronicals
LOCATION:Zoom
ATTACH;FMTTYPE=image/jpeg:https://mindfulnesshamilton.ca/wp-content/uploads/pic-amy-scaled.jpg
END:VEVENT
BEGIN:VEVENT
DTSTART;TZID=America/New_York:20211018T173000
DTEND;TZID=America/New_York:20211018T203000
DTSTAMP:20260424T201140
CREATED:20210709T190855Z
LAST-MODIFIED:20210808T113447Z
UID:10000142-1634578200-1634589000@mindfulnesshamilton.ca
SUMMARY:Mindful Self Compassion 8-Week Training Course
DESCRIPTION:  \nAre you too hard on yourself? Would you like to learn to motivate yourself with compassion instead of criticism? MSC is an evidence-based 8-week\, training program designed to cultivate the skill of self-compassion. Based on the groundbreaking research of Kristin Neff and the clinical expertise of Christopher Germer\, MSC teaches core principles and practices that enable participants to respond to difficult moments in their lives with kindness\, care and understanding. Participants learn to stop being so hard on themselves\, to motivate themselves with kindness rather than criticism\, to handle difficult emotions with more ease\, to handle caregiver stress with more ease\, and more. Research has shown that MSC training results in increases in self-compassion\, mindfulness\, and compassion for others; decreases in depression\, anxiety\, stress\, and emotional avoidance; and\, increases in social connectedness\, life satisfaction\, and happiness. If you are in a helping position or profession\, such as parenting\,  physicians\, social workers\, psychologists\, RPs\, teachers\, nurses\, physiotherapists\, etc.\, this course not only helps you on a personal level\, i.e. builds your capacity to experience less burn-out\, it also gives you Professional Development: new skills to both help and teach to the people you work with! You are not required to be in one of those professions to participate in this course\, nor is previous experience with meditation required.  Mary Linda Burgess and Natalie Sobel\, both Trained Teachers (from The Center for Mindful Self Compassion) and MSWs are grateful to bring this course to Hamilton once again\, LIVE and IN PERSON (hurray!) unless we go into lockdown again at the time of the course\, in which case we will pivot to the online platform (and reduce the fee). A limited number of scholarship spots are available. Please email Natalie for more information and registration info: natalie.msc@bell.net.
URL:https://mindfulnesshamilton.ca/event/mindful-self-compassion-8-week-training-course/2021-10-18
LOCATION:Ontario
ATTACH;FMTTYPE=image/png:https://mindfulnesshamilton.ca/wp-content/uploads/Natalies-mcs-poster.png
END:VEVENT
BEGIN:VEVENT
DTSTART;TZID=America/New_York:20211025T173000
DTEND;TZID=America/New_York:20211025T203000
DTSTAMP:20260424T201140
CREATED:20210709T190855Z
LAST-MODIFIED:20210808T113447Z
UID:10000143-1635183000-1635193800@mindfulnesshamilton.ca
SUMMARY:Mindful Self Compassion 8-Week Training Course
DESCRIPTION:  \nAre you too hard on yourself? Would you like to learn to motivate yourself with compassion instead of criticism? MSC is an evidence-based 8-week\, training program designed to cultivate the skill of self-compassion. Based on the groundbreaking research of Kristin Neff and the clinical expertise of Christopher Germer\, MSC teaches core principles and practices that enable participants to respond to difficult moments in their lives with kindness\, care and understanding. Participants learn to stop being so hard on themselves\, to motivate themselves with kindness rather than criticism\, to handle difficult emotions with more ease\, to handle caregiver stress with more ease\, and more. Research has shown that MSC training results in increases in self-compassion\, mindfulness\, and compassion for others; decreases in depression\, anxiety\, stress\, and emotional avoidance; and\, increases in social connectedness\, life satisfaction\, and happiness. If you are in a helping position or profession\, such as parenting\,  physicians\, social workers\, psychologists\, RPs\, teachers\, nurses\, physiotherapists\, etc.\, this course not only helps you on a personal level\, i.e. builds your capacity to experience less burn-out\, it also gives you Professional Development: new skills to both help and teach to the people you work with! You are not required to be in one of those professions to participate in this course\, nor is previous experience with meditation required.  Mary Linda Burgess and Natalie Sobel\, both Trained Teachers (from The Center for Mindful Self Compassion) and MSWs are grateful to bring this course to Hamilton once again\, LIVE and IN PERSON (hurray!) unless we go into lockdown again at the time of the course\, in which case we will pivot to the online platform (and reduce the fee). A limited number of scholarship spots are available. Please email Natalie for more information and registration info: natalie.msc@bell.net.
URL:https://mindfulnesshamilton.ca/event/mindful-self-compassion-8-week-training-course/2021-10-25
LOCATION:Ontario
ATTACH;FMTTYPE=image/png:https://mindfulnesshamilton.ca/wp-content/uploads/Natalies-mcs-poster.png
END:VEVENT
END:VCALENDAR