BEGIN:VCALENDAR
VERSION:2.0
PRODID:-//Mindfulness Hamilton - ECPv6.15.20//NONSGML v1.0//EN
CALSCALE:GREGORIAN
METHOD:PUBLISH
X-WR-CALNAME:Mindfulness Hamilton
X-ORIGINAL-URL:https://mindfulnesshamilton.ca
X-WR-CALDESC:Events for Mindfulness Hamilton
REFRESH-INTERVAL;VALUE=DURATION:PT1H
X-Robots-Tag:noindex
X-PUBLISHED-TTL:PT1H
BEGIN:VTIMEZONE
TZID:America/New_York
BEGIN:DAYLIGHT
TZOFFSETFROM:-0500
TZOFFSETTO:-0400
TZNAME:EDT
DTSTART:20250309T070000
END:DAYLIGHT
BEGIN:STANDARD
TZOFFSETFROM:-0400
TZOFFSETTO:-0500
TZNAME:EST
DTSTART:20251102T060000
END:STANDARD
BEGIN:DAYLIGHT
TZOFFSETFROM:-0500
TZOFFSETTO:-0400
TZNAME:EDT
DTSTART:20260308T070000
END:DAYLIGHT
BEGIN:STANDARD
TZOFFSETFROM:-0400
TZOFFSETTO:-0500
TZNAME:EST
DTSTART:20261101T060000
END:STANDARD
BEGIN:DAYLIGHT
TZOFFSETFROM:-0500
TZOFFSETTO:-0400
TZNAME:EDT
DTSTART:20270314T070000
END:DAYLIGHT
BEGIN:STANDARD
TZOFFSETFROM:-0400
TZOFFSETTO:-0500
TZNAME:EST
DTSTART:20271107T060000
END:STANDARD
END:VTIMEZONE
BEGIN:VEVENT
DTSTART;TZID=America/New_York:20260430T190000
DTEND;TZID=America/New_York:20260604T200000
DTSTAMP:20260419T225504
CREATED:20260408T131836Z
LAST-MODIFIED:20260408T132132Z
UID:10003768-1777575600-1780603200@mindfulnesshamilton.ca
SUMMARY:Introduction to Mindfulness Meditation: A 6-week course with Rohini Kumar
DESCRIPTION:Hello fellow students of mindfulness. My name is Rohini Kumar\, I am a long-time practitioner of mindfulness and am currently a student in the Mindfulness Meditation Teacher Certification Program under Jack Kornfield and Tara Brach.  I am honoured to be offering a 6 week Introduction to Mindfulness course as part of my training.  Together\, we will be exploring fundamentals of mindfulness such as mindfulness of the breath\, body\, emotions and thoughts\, as well as experimenting with stillness and movement practice. Whether you have an established meditation practice\, or are curious about mindfulness\, all are welcome on this journey to discovering peace right where you are. \nTo register and for more information please email Rohini at mindfulnessinhamilton@gmail.com
URL:https://mindfulnesshamilton.ca/event/introduction-to-mindfulness-meditation-a-6-week-course-with-rohini-kumar
LOCATION:Regent Health Centre\, 150 Locke St S\, Hamilton\, Ontario\, Canada
CATEGORIES:Community Events
ATTACH;FMTTYPE=image/jpeg:https://mindfulnesshamilton.ca/wp-content/uploads/Mindfulness-Poster-final-1.jpg
ORGANIZER;CN="Rohini Kumar":MAILTO:mindfulnessinhamilton.gmail.com
END:VEVENT
END:VCALENDAR