BEGIN:VCALENDAR
VERSION:2.0
PRODID:-//Mindfulness Hamilton - ECPv6.15.20//NONSGML v1.0//EN
CALSCALE:GREGORIAN
METHOD:PUBLISH
X-WR-CALNAME:Mindfulness Hamilton
X-ORIGINAL-URL:https://mindfulnesshamilton.ca
X-WR-CALDESC:Events for Mindfulness Hamilton
REFRESH-INTERVAL;VALUE=DURATION:PT1H
X-Robots-Tag:noindex
X-PUBLISHED-TTL:PT1H
BEGIN:VTIMEZONE
TZID:America/New_York
BEGIN:DAYLIGHT
TZOFFSETFROM:-0500
TZOFFSETTO:-0400
TZNAME:EDT
DTSTART:20250309T070000
END:DAYLIGHT
BEGIN:STANDARD
TZOFFSETFROM:-0400
TZOFFSETTO:-0500
TZNAME:EST
DTSTART:20251102T060000
END:STANDARD
BEGIN:DAYLIGHT
TZOFFSETFROM:-0500
TZOFFSETTO:-0400
TZNAME:EDT
DTSTART:20260308T070000
END:DAYLIGHT
BEGIN:STANDARD
TZOFFSETFROM:-0400
TZOFFSETTO:-0500
TZNAME:EST
DTSTART:20261101T060000
END:STANDARD
BEGIN:DAYLIGHT
TZOFFSETFROM:-0500
TZOFFSETTO:-0400
TZNAME:EDT
DTSTART:20270314T070000
END:DAYLIGHT
BEGIN:STANDARD
TZOFFSETFROM:-0400
TZOFFSETTO:-0500
TZNAME:EST
DTSTART:20271107T060000
END:STANDARD
END:VTIMEZONE
BEGIN:VEVENT
DTSTART;TZID=America/New_York:20260221T090000
DTEND;TZID=America/New_York:20260221T160000
DTSTAMP:20260420T122848
CREATED:20260114T201748Z
LAST-MODIFIED:20260122T014908Z
UID:10003759-1771664400-1771689600@mindfulnesshamilton.ca
SUMMARY:The Compassionate Self: Using Mindfulness to Discover the Joy Within
DESCRIPTION:The Compassionate Self: Using Mindfulness to Discover the Joy Within \nWhile we readily accept the imperfections of those we love\, we often judge ourselves harshly\, creating anxiety and blocking our own inner growth. Mindfulness can help us develop the skill to feel more warmth and love for everyone as we navigate our lives. \nThis interactive day-long workshop will focus on building self-compassion skills. We will begin with developing a better understanding of the relationship between our thoughts and emotions and the role they play in determining our outlook in life. We will then work with a number of practices designed to counter habitual tendencies and create a shift in awareness from self-judgement to one of self-compassion and kindness towards ourselves and others. \nThe day will be split into three parts\, each containing a talk and practice. Chairs are available but you are welcome to bring your own mat and cushion. You will also be given specific practices to engage in during a morning break of 15 minutes and the one-hour lunch break. \nAnyone looking to become more proficient in understanding how the mind and emotions influence how we identify with ourselves and the world around us will enjoy the many practical tips\, techniques and practice to enhance overall well being and establish a more joyful\, compassionate self-view. \nDate: Saturday\, February 21st 9am to 4pm \nLocation: St. Cuthbert’s Church\, 2 Bond St.North\, Hamilton\n \nFees*:\nEarly bird:  Member  $80 Non-member $100** Financially Challenged $50 \nAfter February 15th: Member $90  Non-member $110 Financially Challenged $60 \nRegister on Eventbrite Here \n*Fee includes a morning snack and drinks during breaks. Please bring your own lunch. \n**Membership in Mindfulness Hamilton is $25 a year \nFacilitators \nColin De France is a dedicated mindfulness facilitator\, meditation guide\, and yoga teacher based in Ontario\, Canada\, serving the Hamilton and Greater Toronto region. With a deep passion for helping individuals find balance\, clarity\, and inner peace\, Colin blends mindfulness\, meditation\, and classical yoga practices to support personal and professional well-being. Colin did a podcast with Mindfulness Hamilton which you can access at this LINK  \n \nJaney Piroli Combining over two decades of leadership development experience with a deep passion for human potential\, Janey Piroli brings a unique blend of professional wisdom and holistic wellbeing practices to her work with individuals and organizations. As a Certified Executive Coach and graduate of the Search Inside Yourself Leadership Institute’s ENGAGE program\, Janey has touched the lives of hundreds of people globally\, helping them become more present and authentic in all areas of their lives – as leaders\, partners\, parents\, and friends. Her natural ability to create trusting relationships and inspire hope has been foundational to her work in organizational development\, where she has successfully championed mindfulness initiatives that bridge professional excellence with personal wellbeing. 
URL:https://mindfulnesshamilton.ca/event/the-compassionate-self-using-mindfulness-to-discover-the-joy-within
LOCATION:St. Cuthbert’s Presbyterian Church\, 2 Bond Street N\, Hamilton\, 2 Bond St N\, Hamilton\, Canada
CATEGORIES:Mindfulness Hamilton Events
ATTACH;FMTTYPE=image/png:https://mindfulnesshamilton.ca/wp-content/uploads/Mindfulness-Hamilton-Eventbrite-Covers-1-3.png
END:VEVENT
BEGIN:VEVENT
DTSTART;TZID=America/New_York:20260325T183000
DTEND;TZID=America/New_York:20260325T203000
DTSTAMP:20260420T122848
CREATED:20260123T184031Z
LAST-MODIFIED:20260123T184031Z
UID:10003761-1774463400-1774470600@mindfulnesshamilton.ca
SUMMARY:Taking in the Good: Rewiring the Mind towards Happiness and Joy
DESCRIPTION:Taking in the Good: Rewiring the Mind towards Happiness and Joy \nJoin us for an evening exploring why negativity has such a strong pull\, and how science shows we can retrain the brain toward happiness and joy.   \nYou’ll be introduced to practical\, evidence-based ways to counterbalance this tendency\, including practices that cultivate gratitude\, joy\, and awe. These practices aren’t about ignoring difficulty—they’re about training the mind to register goodness more fully and deeply.\n\nThe evening will include gentle teaching\, guided practices\, and meditations that you can easily bring into daily life. Through reflection and experience\, you’ll learn how to “take in the good” in ways that support resilience\, emotional balance\, and a greater sense of ease. No prior meditation experience is needed—just a curiosity about how small shifts in attention can create meaningful change. \nInstructor: Melanie Schwindt is a graduate of the Awareness Training Institute in collaboration with the Greater Good Science Center at the University of California\, Berkeley. She offers evidence-based mindfulness and meditation practices grounded in neuroscience\, embodiment\, and compassion-based inquiry. Known for her relational and inclusive teaching style\, Melanie meets people where they are\, offering practical tools and contemplative practices that help navigate life’s challenges with greater clarity\, steadiness\, and care.\nFor more information\, visit www.melanieschwindt.com. \nDate: Wednesday\, March 25th\, 2026 \nTime: 6:30 to 8:30pm \nPlace: The Staircase Theatre 27 Dundurn St North\, Hamilton \nFees: Early bird until March 18th: $25 members; $35 non-member*; $10 student/financial hardship\, After March 19th: $30 members; $40 non-member*; $15 student/financial hardship \n*Note: Membership in Mindfulness Hamilton is $25 per year  \nRegister Here: https://www.eventbrite.ca/e/taking-in-the-good-rewiring-the-mind-towards-happiness-and-joy-tickets-1981272264678?aff=oddtdtcreator
URL:https://mindfulnesshamilton.ca/event/taking-in-the-good-rewiring-the-mind-towards-happiness-and-joy
LOCATION:The Staircase Theatre\, 27 Dundurn St North\, Hamilton\, Ontario\, Canada
CATEGORIES:Mindfulness Hamilton Events
ATTACH;FMTTYPE=image/png:https://mindfulnesshamilton.ca/wp-content/uploads/EventbriteWeb.png
END:VEVENT
BEGIN:VEVENT
DTSTART;TZID=America/New_York:20260426T090000
DTEND;TZID=America/New_York:20260426T160000
DTSTAMP:20260420T122848
CREATED:20260326T161738Z
LAST-MODIFIED:20260326T161738Z
UID:10003766-1777194000-1777219200@mindfulnesshamilton.ca
SUMMARY:The Art of Being: A Mindful Journey Through Sitting\, Sound\, Mandala and Movement
DESCRIPTION:The Art of Being: A Mindful Journey Through Sitting\, Sound\, Mandala and Movement Sunday April 26th at the Art Gallery of Hamilton \n123 King Street West\n9am to 4pm\n\nWe invite you to a special day dedicated to cultivating joy and presence in everyday life through different mindfulness meditation experiences. By exploring mindfulness through a variety of practices\, we can enhance our ability to be fully engaged in each moment. Experienced meditators will appreciate the chance to deepen their practice. People new to meditation will have a chance to explore approaches other than formal sitting to experience the art and beauty of living mindfully. \nAdmission to the Art Gallery comes with your registration. You may wish to browse the galleries during the lunch break\, or from 4 to 5pm after our workshop ends and before AGH closes\, or if there is a workshop you choose not to attend\, you may browse the galleries or find a quiet space to just be for a while. \nSessions include:\n\nMindfulness Through Sound \nJourney through a sound bath meditation; an intentional\, traditional healing practice that ebb and flows with the power of sound\, frequency and vibration to tune into your creative consciousness. As the waves of sound from quartz singing bowls flow in\, you are invited to rest. The session will be led by Melaina Gasbarrino founder of SALT to TREE\, a wellness company she created to welcome us all into a place of ease.\n \nMindfulness Through Slow Looking\nDid you know that the average time spent looking at a work of art is just 17 seconds? In this session\, you will select a painting and engage in deep\, mindful observation\, spending many minutes gazing at the artwork. Stools or yoga mats for sitting are provided. Led by Laurie Kilgour-Walsh\, Head of Programs and Learning at the Art Gallery of Hamilton. Laurie has worked at AGH for 19 years.  In recent years\, her work has focused on the power of arts experiences to improve wellbeing in participants through a focus on strengths\, social connection\, and shared experiences.  With a strong belief in person-centred programming\, her work encourages participants to see and think about art in new ways.  She is also a mother\, and a practicing visual artist.\n\nMindfulness Through Creative Movement\nThrough music & gentle verbal guidance\, participants will express physical sensations\, perceptions\, and experiences. Our breath will act as the interpreter between the body & mind allowing for a beautiful holistic reset for body\, mind & spirit. This practice is accessible to all levels & abilities. The session will be led by Tasha Bodnarchuk who brings many years of studying yoga\, dance and mindful movement to her teaching. \nMindfulness Through Mandala Creation \nMandala painting is a creative\, contemplative practice that combines the meditative focus of silent presence with the expressive beauty of visual art. A ‘mandala’ (Sanskrit for circle) is a geometric symbol representing wholeness\, unity and the cosmos. Creating one cultivates a pathway inward – a form of active methodical meditation. No art experience required. The session will be led by Shawn McGregor of bodyRhythm Studios providing a safe space to breathe\, to move\, to heal. \nRegister Here: https://www.eventbrite.ca/e/the-art-of-being-a-mindful-journey-tickets-1985968670755?aff=oddtdtcreator \nThanks to the generosity of the Art Gallery of Hamilton\, we are able to offer this program for the following fees*: \nEarly bird:  Member  $75 Non-member $90 Financially Challenged $35 \nAfter April 20th: Member $85  Non-member $100 Financially Challenged $40 \n*Note that participants will provide their own lunch and snacks. The AGH snack bar opens at 11am
URL:https://mindfulnesshamilton.ca/event/the-art-of-being-a-mindful-journey-through-sitting-sound-mandala-and-movement
LOCATION:Art Gallery of Hamilton\, 123 King St W\, Hamilton\, Canada
CATEGORIES:Mindfulness Hamilton Events
ATTACH;FMTTYPE=image/png:https://mindfulnesshamilton.ca/wp-content/uploads/Mindfulness-Hamilton-Eventbrite-Covers-10.png
END:VEVENT
END:VCALENDAR