BEGIN:VCALENDAR
VERSION:2.0
PRODID:-//Mindfulness Hamilton - ECPv6.15.20//NONSGML v1.0//EN
CALSCALE:GREGORIAN
METHOD:PUBLISH
X-WR-CALNAME:Mindfulness Hamilton
X-ORIGINAL-URL:https://mindfulnesshamilton.ca
X-WR-CALDESC:Events for Mindfulness Hamilton
REFRESH-INTERVAL;VALUE=DURATION:PT1H
X-Robots-Tag:noindex
X-PUBLISHED-TTL:PT1H
BEGIN:VTIMEZONE
TZID:America/New_York
BEGIN:DAYLIGHT
TZOFFSETFROM:-0500
TZOFFSETTO:-0400
TZNAME:EDT
DTSTART:20250309T070000
END:DAYLIGHT
BEGIN:STANDARD
TZOFFSETFROM:-0400
TZOFFSETTO:-0500
TZNAME:EST
DTSTART:20251102T060000
END:STANDARD
BEGIN:DAYLIGHT
TZOFFSETFROM:-0500
TZOFFSETTO:-0400
TZNAME:EDT
DTSTART:20260308T070000
END:DAYLIGHT
BEGIN:STANDARD
TZOFFSETFROM:-0400
TZOFFSETTO:-0500
TZNAME:EST
DTSTART:20261101T060000
END:STANDARD
BEGIN:DAYLIGHT
TZOFFSETFROM:-0500
TZOFFSETTO:-0400
TZNAME:EDT
DTSTART:20270314T070000
END:DAYLIGHT
BEGIN:STANDARD
TZOFFSETFROM:-0400
TZOFFSETTO:-0500
TZNAME:EST
DTSTART:20271107T060000
END:STANDARD
END:VTIMEZONE
BEGIN:VEVENT
DTSTART;TZID=America/New_York:20260430T190000
DTEND;TZID=America/New_York:20260604T200000
DTSTAMP:20260419T135442
CREATED:20260408T131836Z
LAST-MODIFIED:20260408T132132Z
UID:10003768-1777575600-1780603200@mindfulnesshamilton.ca
SUMMARY:Introduction to Mindfulness Meditation: A 6-week course with Rohini Kumar
DESCRIPTION:Hello fellow students of mindfulness. My name is Rohini Kumar\, I am a long-time practitioner of mindfulness and am currently a student in the Mindfulness Meditation Teacher Certification Program under Jack Kornfield and Tara Brach.  I am honoured to be offering a 6 week Introduction to Mindfulness course as part of my training.  Together\, we will be exploring fundamentals of mindfulness such as mindfulness of the breath\, body\, emotions and thoughts\, as well as experimenting with stillness and movement practice. Whether you have an established meditation practice\, or are curious about mindfulness\, all are welcome on this journey to discovering peace right where you are. \nTo register and for more information please email Rohini at mindfulnessinhamilton@gmail.com
URL:https://mindfulnesshamilton.ca/event/introduction-to-mindfulness-meditation-a-6-week-course-with-rohini-kumar
LOCATION:Regent Health Centre\, 150 Locke St S\, Hamilton\, Ontario\, Canada
CATEGORIES:Community Events
ATTACH;FMTTYPE=image/jpeg:https://mindfulnesshamilton.ca/wp-content/uploads/Mindfulness-Poster-final-1.jpg
ORGANIZER;CN="Rohini Kumar":MAILTO:mindfulnessinhamilton.gmail.com
END:VEVENT
BEGIN:VEVENT
DTSTART;TZID=America/New_York:20260601T140000
DTEND;TZID=America/New_York:20260601T150000
DTSTAMP:20260419T135442
CREATED:20260320T190630Z
LAST-MODIFIED:20260320T190657Z
UID:10003712-1780322400-1780326000@mindfulnesshamilton.ca
SUMMARY:Free Meditation at Sherwood Library
DESCRIPTION:We invite you to spend a peaceful hour meditating with others at the Sherwood Library. The sessions will be led by experienced facilitators\, giving you exposure to different approaches to mindfulness meditation from mostly guided to mostly silent. The meditation period is 30-45 minutes followed by 15 minutes of questions and discussion. \nNo matter your level of experience with mindful meditation\, you will benefit from this hour break from everyday life. \nNo registration is required. Simply drop in and enjoy. \nLocation: 467 Upper Ottawa (Upper Ottawa and Fennell Ave. E) \nTime: 2 to 3pm \nDates: January 19th to June 15th (no class on February 16\, April 6 and 20 and May 18)
URL:https://mindfulnesshamilton.ca/event/free-meditation-at-sherwood-library-2-2/2026-06-01
LOCATION:Sherwood Library (467 Upper Ottawa)\, 467 Upper Ottawa Street\, Hamilton\, Ontario\, L8T 3T3\, Canada
CATEGORIES:Mindfulness Hamilton Events
ATTACH;FMTTYPE=image/png:https://mindfulnesshamilton.ca/wp-content/uploads/15.png
END:VEVENT
BEGIN:VEVENT
DTSTART;TZID=America/New_York:20260601T180000
DTEND;TZID=America/New_York:20260601T190000
DTSTAMP:20260419T135442
CREATED:20251212T031850Z
LAST-MODIFIED:20251212T032105Z
UID:10003691-1780336800-1780340400@mindfulnesshamilton.ca
SUMMARY:Free Meditation at Dundas Library
DESCRIPTION:We invite you to spend a peaceful hour meditating with others at the Dundas Library. The sessions will be led by experienced facilitators\, giving you exposure to different approaches to mindfulness meditation from mostly guided to mostly silent. The meditation period is 30-45 minutes followed by 15 minutes of questions and discussion. \nNo matter your level of experience with mindful meditation\, you will benefit from this hour break from everyday life. \nNo registration is required. Simply drop in. \nDundas Library Location: 18 Ogilvie St\, Dundas\nDates: Mondays\nJanuary 19th to June 15th (no class on February 16\, April 6 and May 18)\nTime: 6 to 7pm\nNo registration is required. Simply drop in and enjoy.
URL:https://mindfulnesshamilton.ca/event/free-meditation-at-dundas-library-2/2026-06-01
LOCATION:Dundas Library\, 18 Ogilvie St\, Dundas\, Ontario\, Canada
CATEGORIES:Mindfulness Hamilton Events
ATTACH;FMTTYPE=image/png:https://mindfulnesshamilton.ca/wp-content/uploads/17.png
END:VEVENT
BEGIN:VEVENT
DTSTART;TZID=America/New_York:20260602T180000
DTEND;TZID=America/New_York:20260602T190000
DTSTAMP:20260419T135442
CREATED:20251212T032504Z
LAST-MODIFIED:20251212T032550Z
UID:10003733-1780423200-1780426800@mindfulnesshamilton.ca
SUMMARY:Free Mindfulness Meditation at the Hamilton Central Library
DESCRIPTION:We invite you to spend a peaceful hour meditating with others at the Central Library in downtown Hamilton. The sessions will be led by experienced facilitators\, giving you exposure to different approaches to mindfulness meditation from mostly guided to mostly silent. The meditation period is 30-45 minutes followed by 15 minutes of questions and discussion. \nNo matter your level of experience with mindful meditation\, you will benefit from this hour break from everyday life. \nNo registration is required. Simply drop in and enjoy. \nJanuary 20th to June 16th
URL:https://mindfulnesshamilton.ca/event/free-mindfulness-meditation-at-the-hamilton-central-library-2-2/2026-06-02
LOCATION:Hamilton Central Library\, 55 York Blvd.\, Hamilton\, ON\, Canada
CATEGORIES:Mindfulness Hamilton Events
ATTACH;FMTTYPE=image/png:https://mindfulnesshamilton.ca/wp-content/uploads/16.png
END:VEVENT
BEGIN:VEVENT
DTSTART;TZID=America/New_York:20260613T090000
DTEND;TZID=America/New_York:20260613T100000
DTSTAMP:20260419T135442
CREATED:20251212T032726Z
LAST-MODIFIED:20251212T032848Z
UID:10003755-1781341200-1781344800@mindfulnesshamilton.ca
SUMMARY:Free Meditation at The Putman Family YWCA
DESCRIPTION:We invite you to spend a peaceful hour meditating with others at the Putman Family YWCA. The sessions will be led by experienced facilitators\, giving you exposure to different approaches to mindfulness meditation from mostly guided to mostly silent. The meditation period is 30-45 minutes followed by 15 minutes of questions and discussion. \nPlease bring a mat and cushion if you have them. We will also have chairs and some mats on hand. \nStreet parking is available and you may also use the parking lot at the Crown Point Community Church north of the Y. \nNo matter your level of experience with mindful meditation\, you will benefit from this hour break from everyday life. \nYou are welcome to decide to come at the last minute. However we ask that you register in advance if possible so that we can notify you if there are any changes in the schedule. Registering will also put you on a list to be notified of other meditation opportunities we are planning for the future. To register in advance go to EVENT BRITE \nLocation: 52 Ottawa Street North \nTime: 9 to 10am \nJanuary 24th to June 20th (no class on February 14\, February 21\, April 4\, May 16 and June 6)
URL:https://mindfulnesshamilton.ca/event/free-meditation-at-the-putman-family-ywca-2/2026-06-13
LOCATION:YWCA – 52 Ottawa Street North\, 52 Ottawa Street North\, Hamilton\, Ontario\, L8H 3Y7\, Canada
CATEGORIES:Mindfulness Hamilton Events
ATTACH;FMTTYPE=image/png:https://mindfulnesshamilton.ca/wp-content/uploads/18.png
END:VEVENT
END:VCALENDAR