BEGIN:VCALENDAR
VERSION:2.0
PRODID:-//Mindfulness Hamilton - ECPv6.15.20//NONSGML v1.0//EN
CALSCALE:GREGORIAN
METHOD:PUBLISH
X-WR-CALNAME:Mindfulness Hamilton
X-ORIGINAL-URL:https://mindfulnesshamilton.ca
X-WR-CALDESC:Events for Mindfulness Hamilton
REFRESH-INTERVAL;VALUE=DURATION:PT1H
X-Robots-Tag:noindex
X-PUBLISHED-TTL:PT1H
BEGIN:VTIMEZONE
TZID:America/New_York
BEGIN:DAYLIGHT
TZOFFSETFROM:-0500
TZOFFSETTO:-0400
TZNAME:EDT
DTSTART:20240310T070000
END:DAYLIGHT
BEGIN:STANDARD
TZOFFSETFROM:-0400
TZOFFSETTO:-0500
TZNAME:EST
DTSTART:20241103T060000
END:STANDARD
BEGIN:DAYLIGHT
TZOFFSETFROM:-0500
TZOFFSETTO:-0400
TZNAME:EDT
DTSTART:20250309T070000
END:DAYLIGHT
BEGIN:STANDARD
TZOFFSETFROM:-0400
TZOFFSETTO:-0500
TZNAME:EST
DTSTART:20251102T060000
END:STANDARD
BEGIN:DAYLIGHT
TZOFFSETFROM:-0500
TZOFFSETTO:-0400
TZNAME:EDT
DTSTART:20260308T070000
END:DAYLIGHT
BEGIN:STANDARD
TZOFFSETFROM:-0400
TZOFFSETTO:-0500
TZNAME:EST
DTSTART:20261101T060000
END:STANDARD
END:VTIMEZONE
BEGIN:VEVENT
DTSTART;TZID=America/New_York:20251009T183000
DTEND;TZID=America/New_York:20251009T203000
DTSTAMP:20260420T152240
CREATED:20250714T120023Z
LAST-MODIFIED:20250925T012141Z
UID:10003566-1760034600-1760041800@mindfulnesshamilton.ca
SUMMARY:What Matters in Teaching Mindfulness to Teens
DESCRIPTION:What Matters in Teaching Mindfulness to Teens\n21st century skills are essential competencies needed for success in today’s world\, including both personal and professional life. Future ready\, social and emotional learning. \nJoin us for a practical and inspiring session designed for all school staff – educators\, youth workers\, counselors\, parents and anyone working with teens. This workshop draws on over a decade of experience implementing mindfulness in high schools and community programs\, focusing on how to meaningfully share these tools with teens in a way that resonates. \nWe’ll explore: \n\nReal-life examples of mindfulness in action with teens\nEngaging practices and activities to try with youth\nStrategies for integrating mindfulness into educational\, community\, and counseling settings\n\nThe session will also introduce The Mindful Edge™ Stress Management and Life Strategies for Teens\, a program for being with the ups and downs of life\, a skill-based\, trauma-sensitive\, evidence-informed program supporting teens in navigating the ups and downs of life. It includes movement\, breathwork\, and reflective practices. \nYou’ll leave with: \n\nInsights into what makes a strong facilitator\nTools for managing resistance and navigating challenges\nGuidance on ensuring programs remain secular and inclusive\nA clear understanding of the connection between mindfulness and mental health\nA curated resource list of books\, apps\, and websites for teens\n\nWhether you’re new to teaching mindfulness or looking to deepen your impact\, this session offers a grounded and compassionate framework for supporting youth well-being. \nBio: Heidi Bornstein\, RP\, Yoga Teacher CYA-E-RYT GOLD\, Founder Mindfulness Everyday\, Director SMART Ontario\, MBSR & SMART Facilitator\, Mindful Movement and Qigong Teacher \nHeidi Bornstein is a certified Hatha yoga and meditation teacher with expertise in mindfulness-based stress reduction and trauma-sensitive practices. She has extensive training from the International Meditation Institute in India\, as well as certifications in Hatha Yoga\, Yoga Science\, and Yoga Ed for diverse populations\, including children\, teens\, and at-risk groups. Heidi’s mindfulness training includes Mindfulness-Based Stress Reduction (MBSR) under the guidance of Dr. Jon Kabat-Zinn\, Dr. Saki Santorelli\, Roy Hintsa\, and Dr. Diane Reibel. She is also trained in Trauma-sensitive Mindfulness\, smartEducationTM\, and Mindfulness for Kids at Risk. Additionally\, she holds certification in Medical Qigong Self-Healing (Levels A & B). As a co-creator of the Yoda-Yoga Program for Kids and The Mindful Edge® – Stress Reduction and Life Strategies for Teens\, Heidi specializes in developing accessible mindfulness and wellness programs for schools and organizations. She is the program coordinator for SMART Ontario\, an advisor for the Mindfulness Council of Canada\, and an instructor at the University of Toronto’s School of Continuing Studies. Since 2002\, Heidi has been teaching yoga\, mindfulness\, and meditation\, supporting individuals and communities across educational\, professional\, and therapeutic settings. \nLocation: Westmount Secondary School Auditorium – 39 Montcalm Dr. Hamilton\, Ontario \nParking: Please park in one of the two school parking lots or at the Recration Centre next door. No street parking. \nEntrance: Please use the Main Doors that leads into the front foyer as the presentation will be in the auditorium.
URL:https://mindfulnesshamilton.ca/event/what-matters-in-teaching-mindfulness-to-teens
LOCATION:Westmount Secondary School\, 39 Montcalm Dr\, Hamilton\, Ontario\, L9C 4B1\, Canada
CATEGORIES:Mindfulness Hamilton Events
ATTACH;FMTTYPE=image/png:https://mindfulnesshamilton.ca/wp-content/uploads/Mindfulness-Hamilton-Eventbrite-Covers-5.png
END:VEVENT
BEGIN:VEVENT
DTSTART;TZID=America/New_York:20251025T090000
DTEND;TZID=America/New_York:20251025T160000
DTSTAMP:20260420T152240
CREATED:20250714T162531Z
LAST-MODIFIED:20250714T174743Z
UID:10003565-1761382800-1761408000@mindfulnesshamilton.ca
SUMMARY:Mindfulness Hamilton Fall Retreat: Exploring Four Mindful Awareness Baskets
DESCRIPTION:Exploring Four Mindful Awareness Baskets\nSaturday\, October 25th\, 9am to 4pm\nSt. Cuthbert’s Presbyterian Church\, 2 Bond Street N\, Hamilton \nJoin us for a one-day workshop with Har-Prakash Khalsa to explore four fundamental yet contrasting and complementary approaches to developing Mindful Awareness. Har-Prakash will guide us through a meditation for each approach\, followed by a discussion where participants may share meditation experiences and ask questions.  \nThe Four Mindful Awareness Baskets are: \n\n Naming and Knowing – This approach empowers focused attention\, enabling us to recognize and establish a steady level of mindful awareness. It is particularly beneficial for those who experience distractions during meditation or throughout their day – which is just about everyone!\n Nurture Positive – This technique focuses on finding\, creating\, and sustaining positive emotions and thoughts. It serves as a counterbalance to the negativity bias and distressing emotions we encounter\, and cultivates an optimal foundation for improving our behaviors\, situations\, and relationships and achieving our goals. \n Do Nothing – The heart of the Do Nothing technique is the ability to skillfully let go of controlling or directing our attention while remaining effortlessly aware. This can lead to a sense of freedom from our conventional\, limited identity.  \n Turn Back – This approach turns our attention back toward pure awareness and can lead to a deep sense of fulfillment that is independent of conditions.\n\nThe Four Mindful Awareness Baskets is based on a framework developed by Shinzen Young that organizes the methods of diverse contemplative traditions\, East and West. Sufficiently practicing and integrating these approaches leads to the following:  \n\nExperiencing who you are at the deepest levels. \nReducing your suffering and increasing your fulfillment.\nShowing up fully to your life and being of optimal service to others.  \n\nThis workshop is suitable for meditators of all levels. \nHar-Prakash has been teaching and practicing meditation since 1984. He is the creator of the Cultivating the Jewel of Mindfulness Practitioner Training Program and Retreat Guide\, based on Shinzen Young’s mindfulness system and psychological-relational teachings. \nYou can find more about Har-Prakash and what he offers at https://www.cultivatingthejewel.com. Listen to a Mindfulness Hamilton podcast with Har-Prakash 3 | Har-Prakash Khalsa by Hamilton Talks Mindfulness \nFees*:\nEarly bird:  Member  $80 Non-member $100** Financial Hardship $50 \nAfter October 18th: Member $90  Non-member $110 Financial Hardship $60 \n*Fee includes snacks and drinks during breaks. Please bring your own lunch. \n**Membership to Mindfulness Hamilton is $25 a year
URL:https://mindfulnesshamilton.ca/event/fall-retreat-exploring-four-mindful-awareness-baskets
LOCATION:St. Cuthbert’s Presbyterian Church\, 2 Bond Street N\, Hamilton\, 2 Bond St N\, Hamilton\, Canada
CATEGORIES:Mindfulness Hamilton Events
ATTACH;FMTTYPE=image/png:https://mindfulnesshamilton.ca/wp-content/uploads/Mindfulness-Hamilton-Eventbrite-Covers-7.png
END:VEVENT
END:VCALENDAR